BEGIN:VCALENDAR
VERSION:2.0
PRODID:-//ChamberMaster//Event Calendar 2.0//EN
METHOD:PUBLISH
X-PUBLISHED-TTL:P3D
REFRESH-INTERVAL:P3D
CALSCALE:GREGORIAN
BEGIN:VEVENT
DTSTART:20180125T000000Z
DTEND:20180125T010000Z
X-MICROSOFT-CDO-ALLDAYEVENT:FALSE
SUMMARY:Could it be my Thyroid?
DESCRIPTION:Have you experienced weight gain (or weight loss)\, cold hands and feet\, hair loss\, constipation\, heart palpitations\, depression\, fatigue\, decreased libido\, insomnia and/or brain fog? These are all symptoms of a dysfunctional thyroid. More than 27 million Americans are suffering and about 50% are not diagnosed. Not only that\, it's one of the most common conditions we see at CFNH. We'll discuss the most effective ways heal your thyroid. A complimentary health scan\, including a check of the thyroid\, will be offered to each attendee after this event. Contact Center for Nutritional Healing at 484-938-7691 to reserve your seat.
X-ALT-DESC;FMTTYPE=text/html:<span style="color: rgb(22\, 19\, 63)\; font-family: futura-pt\; font-size: 16px\; letter-spacing: 0.32px\;">Have you experienced weight gain (or weight loss)\, cold hands and feet\, hair loss\, constipation\, heart palpitations\, depression\, fatigue\, decreased libido\, insomnia and/or brain fog? These are all symptoms of a dysfunctional thyroid. More than 27 million Americans are suffering and about 50% are not diagnosed. Not only that\, it&rsquo\;s one of the most common conditions we see at CFNH. We&rsquo\;ll discuss the most effective ways heal your thyroid. A complimentary health scan\, including a check of the thyroid\, will be offered to each attendee after this event. Contact Center for Nutritional Healing at 484-938-7691 to reserve your seat.</span>
LOCATION:Center for Nutritional Healing 567 Church Street\, Suite C Royersford\, PA 19468
UID:e.2183.849128
SEQUENCE:3
DTSTAMP:20260421T093637Z
URL:https://business.tricountyareachamber.com/events/details/could-it-be-my-thyroid-849128
END:VEVENT

END:VCALENDAR
