BEGIN:VCALENDAR
VERSION:2.0
PRODID:-//ChamberMaster//Event Calendar 2.0//EN
METHOD:PUBLISH
X-PUBLISHED-TTL:P3D
REFRESH-INTERVAL:P3D
CALSCALE:GREGORIAN
BEGIN:VEVENT
DTSTART:20200312T220000Z
DTEND:20200313T030000Z
X-MICROSOFT-CDO-ALLDAYEVENT:FALSE
SUMMARY:Couples Only Shuffleboard Tournament
DESCRIPTION:Valentine's Day doesn't have to be the only day to take your sweetheart out! Join Cutillo's for our first COUPLES ONLY Shuffleboard Tournament! No experience necessary! Thursday\, March 12th @6:00pm We'll have an extended Happy Hour for you and your loved one (spectators can join in on the deal too!) $1 off ANY drink 25% off ALL food The tournament starts at 6:00pm until we have declared a winner! 1st Place Winner = Two $50 Gift Cards 2nd Place Winner = Two $40 Gift Cards 3rd Place Winner = Two $20 Gift Cards MUST call to preorder and claim your spot!!! Only 12 spots available! $20 entry fee for each team of 2 people 610-327-2910 **MUST BE 21 OR OLDER TO ENTER**
X-ALT-DESC;FMTTYPE=text/html:Valentine&#39\;s Day doesn&#39\;t have to be the only day to take your sweetheart out! Join Cutillo&#39\;s for our first COUPLES ONLY Shuffleboard Tournament! No experience necessary! Thursday\, March 12th @6:00pm We&#39\;ll have an extended Happy Hour for you and your loved one (spectators can join in on the deal too!) $1 off ANY drink 25% off ALL food The tournament starts at 6:00pm until we have declared a winner! 1st Place Winner = Two $50 Gift Cards 2nd Place Winner = Two $40 Gift Cards 3rd Place Winner = Two $20 Gift Cards MUST call to preorder and claim your spot!!! Only 12 spots available! $20 entry fee for each team of 2 people 610-327-2910 **MUST BE 21 OR OLDER TO ENTER**
LOCATION:2688 E. High Street Pottstown\, PA 19464
UID:e.2183.854747
SEQUENCE:3
DTSTAMP:20260423T115116Z
URL:https://business.tricountyareachamber.com/events/details/couples-only-shuffleboard-tournament-854747
END:VEVENT

END:VCALENDAR
