BEGIN:VCALENDAR
VERSION:2.0
PRODID:-//ChamberMaster//Event Calendar 2.0//EN
METHOD:PUBLISH
X-PUBLISHED-TTL:P3D
REFRESH-INTERVAL:P3D
CALSCALE:GREGORIAN
BEGIN:VEVENT
DTSTART:20170426T210000Z
DTEND:20170426T233000Z
X-MICROSOFT-CDO-ALLDAYEVENT:FALSE
SUMMARY:Cow Pie Bingo
DESCRIPTION:Tompkins VIST Bank is hosting its third annual event to raise funds to treat Muscular Dystrophy and other neuromuscular diseases. The event\, a Cow Pie Bingo\, will held on April 26\, 2017 at Classic Harley-Davidson in Leesport.\n\n \n\nThe public is invited to attend and purchase one square for $20 or 3 squares for $50 for a chance to claim the spot where the cow lays a "pie.". Tickets and donations are available at any Berks County branch of Tompkins VIST Bank. The funds raised will be used to send local children with neuromuscular diseases to the MDA summer camp and to support research and services of the Muscular Dystrophy Association. Local families involved with MDA will participate.\n\n \n\nAlong with the cow pie bingo\, the event will feature face painting for children\, a silent auction\; refreshments\; door prizes\; and a DJ.
X-ALT-DESC;FMTTYPE=text/html:Tompkins VIST Bank is hosting its third annual event to raise funds to treat Muscular Dystrophy and other neuromuscular diseases. The event\, a Cow Pie Bingo\, will held on April 26\, 2017 at Classic Harley-Davidson in Leesport.<br />\n&nbsp\;<br />\nThe public is invited to attend and purchase one square for $20 or 3 squares for $50 for a chance to claim the spot where the cow lays a &ldquo\;pie.&rdquo\;. Tickets and donations are available at any Berks County branch of Tompkins VIST Bank. The funds raised will be used to send local children with neuromuscular diseases to the MDA summer camp and to support research and services of the Muscular Dystrophy Association. Local families involved with MDA will participate.<br />\n&nbsp\;<br />\nAlong with the cow pie bingo\, the event will feature face painting for children\, a silent auction\; refreshments\; door prizes\; and a DJ.&nbsp\;
LOCATION:Classic Harley-Davidson 983 James Drive Leesport\, PA 19533
UID:e.2183.847630
SEQUENCE:3
DTSTAMP:20260420T181935Z
URL:https://business.tricountyareachamber.com/events/details/cow-pie-bingo-847630
END:VEVENT

END:VCALENDAR
