BEGIN:VCALENDAR
VERSION:2.0
PRODID:-//ChamberMaster//Event Calendar 2.0//EN
METHOD:PUBLISH
X-PUBLISHED-TTL:P3D
REFRESH-INTERVAL:P3D
CALSCALE:GREGORIAN
BEGIN:VEVENT
DTSTART:20170207T150000Z
DTEND:20170212T200000Z
X-MICROSOFT-CDO-ALLDAYEVENT:FALSE
SUMMARY:Craft Show
DESCRIPTION:Sweetheart Craft & Vendor Fair just in time for Valentines Day! Sophie's Salts & Scrubs\, Patty's Doggie Treats\, Pampered Chef\, Pink Zebra .....just to name a few!
X-ALT-DESC;FMTTYPE=text/html:Sweetheart Craft &amp\; Vendor Fair just in time for Valentines Day! Sophie&#39\;s Salts &amp\; Scrubs\, Patty&#39\;s Doggie Treats\, Pampered Chef\, Pink Zebra .....just to name a few!
LOCATION:Quality Inn Conference Room 61 W King Street\, Pottstown\, PA 19464
UID:e.2183.847480
SEQUENCE:3
DTSTAMP:20260420T151211Z
URL:https://business.tricountyareachamber.com/events/details/craft-show-847480
END:VEVENT

END:VCALENDAR
