BEGIN:VCALENDAR
VERSION:2.0
PRODID:-//ChamberMaster//Event Calendar 2.0//EN
METHOD:PUBLISH
X-PUBLISHED-TTL:P3D
REFRESH-INTERVAL:P3D
CALSCALE:GREGORIAN
BEGIN:VEVENT
DTSTART:20230622T203000Z
DTEND:20230622T223000Z
X-MICROSOFT-CDO-ALLDAYEVENT:FALSE
SUMMARY:Creating Connections Mixer
DESCRIPTION:ALL ABOARD\n\n CREATING CONNECTIONS MIXER\n\nJoin us at The Colebrookdale Railroad\n\nand board the train for a fun-filled Mixer.\nJoin TCACC Members on the beautifully restored coaches of the Colebrookdale Railroad. You will get to have an appetizer in the Dining Car\, take in the elegance of the Coach\, have a drink in the luxurious first-class Parlor Car\, and step out onto the Open Car. Enter the train and transport back to a grander Edwardian era.\n\n\n\nThe railway system was completed by soldiers home from the Civil War just four months after the Transcontinental Railroad united the East and West. The Colebrookdale is a record of epic engineering and heroic human drama. Meet the conductors and the group of volunteers who have restored the elegance and have brought this train back to life.\n\n\n\nJoin us on the railroad cars for our networking event\, sponsored by Tri County Area Federal Credit Union.\n\nAs a Chamber Member you have the opportunity to grow your connections with networking events. This Mixer is a great way to meet new businesspeople in a casual setting! \n\nThere will be:\n\n\n	Appetizers\n	Beer & Wine\n	A Champagne Toast\n	Building Relationships with other Chamber Members\n	Chamber Members may bring a prize donation (value $75) and get the opportunity to talk about their business for 2 minutes.\n	Get the opportunity to board the Colebrookdale Railroad Cars and experience a little bit of history.\n	Plus\, if you bring a gift basket (value of $75) for a door prize\, you will get 1 minute of time to speak about your business.\n\n*The train will remain at the station during the Mixer for TCACC Members to board and un-board as needed.\n\n\n\n_______________________________________________________________________________\n\n\n\nWe are looking for sponsors for this event.  Please check our Marketing and Exposure Opportunity Package.\n\n\n\nMixer Sponsorship Opportunities\n\n\n	2 Complimentary Tickets (if fees are associated with Mixer)\n	3 Minute Message to attendees at the event\n	Door prize donation from your Company\n	Logo on Chamber Website Event Page\n	Display table at event\n	Exclusive right to distribute literature or give-away to attendees\n	Logo in Chamber's marketing of event (flyers\, emails\, etc.)\n	Option to put in a special message from the sponsor in our post-event email \n\nCost $400. (3 Sponsorships per Mixer available.)
X-ALT-DESC;FMTTYPE=text/html:<h2 style="text-align: center\;"><strong style="color: rgb(0\, 173\, 239)\; font-size: 22px\; text-align: center\;">ALL ABOARD<br />\n&nbsp\;CREATING CONNECTIONS MIXER</strong></h2>\n\n<div style="text-align: center\;"><strong style="color: rgb(0\, 173\, 239)\; font-size: 22px\; text-align: center\;">Join us at The Colebrookdale Railroad<br />\nand board the train for a fun-filled Mixer.</strong></div>\n<span style="font-size:16px\;"><span font-size:="" sans="" trip="" white-space:="">Join TCACC Members on the beautifully restored coaches of the Colebrookdale Railroad. You will get to have an appetizer in the Dining Car\, take in the elegance of the Coach\, have a drink in the luxurious first-class Parlor Car\, and step out onto the Open Car. Enter the train and transport back to a grander Edwardian era.<br />\n<br />\nThe railway system was completed by soldiers home from the Civil War just four months after the Transcontinental Railroad united the East and West. The Colebrookdale is a record of epic engineering and heroic human drama. Meet the conductors and the group of volunteers who have restored the elegance and have brought this train back to life.</span></span><br />\n<br />\n<span style="font-size:16px\;"><font face="Trip Sans VF\, Trip Sans\, Arial\, sans-serif"><span style="white-space: pre-wrap\;">J</span></font>oin us on the railroad cars for our networking event\, sponsored by Tri County Area Federal Credit Union.</span>\n\n<div><span style="font-size: 16px\;">As a Chamber Member&nbsp\;you have the opportunity to grow your connections with networking events. This&nbsp\;Mixer&nbsp\;is a great way to meet new businesspeople&nbsp\;in a casual setting!&nbsp\;</span></div>\n\n<div><span style="font-size: 16px\;">There will be:</span></div>\n\n<ul>\n	<li><span style="font-size: 16px\;">Appetizers</span></li>\n	<li><span style="font-size: 16px\;">Beer &amp\; Wine</span></li>\n	<li><span style="font-size: 16px\;">A Champagne Toast</span></li>\n	<li><span style="font-size: 16px\;">Building Relationships with other Chamber Members</span></li>\n	<li><span style="font-size: 16px\;">Chamber Members may bring a prize donation (value $75) and get the opportunity to talk about their business for 2 minutes.</span></li>\n	<li><span style="font-size: 16px\;"><strong>Get the opportunity&nbsp\;to board the Colebrookdale Railroad Cars and experience a little bit of history.</strong></span></li>\n	<li><span style="font-size: 14px\;"><span style="font-family: arial\;"><strong>Plus\, if you bring a gift basket (value of $75)&nbsp\;for a door prize\, you will get 1 minute of time to speak about your business</strong>.</span></span></li>\n</ul>\n<span style="font-size:16px\;"><strong><em>*The train will remain at the station during the Mixer for TCACC Members to board and un-board as needed.</em></strong></span><br />\n<br />\n_______________________________________________________________________________<br />\n<br />\nWe are looking for sponsors for this event.&nbsp\; Please check our <a href="https://chambermaster.blob.core.windows.net/userfiles/UserFiles/chambers/2183/File/MixerSponsorshipOpportunities.pdf">Marketing and Exposure Opportunity Package.</a><br />\n<br />\n<span style="font-size:14px\;"><strong><span style="color:#00B0F0\;">Mixer Sponsorship Opportunities</span></strong></span>\n\n<ul>\n	<li><span style="font-size:14px\;">2 Complimentary Tickets (if fees are associated with Mixer)</span></li>\n	<li><span style="font-size:14px\;">3 Minute Message to attendees at the event</span></li>\n	<li><span style="font-size:14px\;">Door prize donation from your Company</span></li>\n	<li><span style="font-size:14px\;">Logo on Chamber Website Event Page</span></li>\n	<li><span style="font-size:14px\;">Display table at event</span></li>\n	<li><span style="font-size:14px\;">Exclusive right to distribute literature or give-away to attendees</span></li>\n	<li><span style="font-size:14px\;">Logo in Chamber&rsquo\;s marketing of event (flyers\, emails\, etc.)</span></li>\n	<li><span style="font-size:14px\;">Option to put in a special message from the sponsor in our post-event email </span></li>\n</ul>\n<span style="font-size:14px\;"><strong>Cost $400. (3 Sponsorships per Mixer available.)</strong></span><br />\n&nbsp\;
LOCATION:The Colebrookdale Railroad
UID:e.2183.858488
SEQUENCE:3
DTSTAMP:20260420T024835Z
URL:https://business.tricountyareachamber.com/events/details/creating-connections-mixer-858488
END:VEVENT

END:VCALENDAR
