BEGIN:VCALENDAR
VERSION:2.0
PRODID:-//ChamberMaster//Event Calendar 2.0//EN
METHOD:PUBLISH
X-PUBLISHED-TTL:P3D
REFRESH-INTERVAL:P3D
CALSCALE:GREGORIAN
BEGIN:VEVENT
DTSTART:20170819T120000Z
DTEND:20170819T190000Z
X-MICROSOFT-CDO-ALLDAYEVENT:FALSE
SUMMARY:Crossfit Fidelity Shatter the Stigma
DESCRIPTION:Fundraiser for Brendan's Band
X-ALT-DESC;FMTTYPE=text/html:Fundraiser for Brendan&#39\;s Band
LOCATION:Crossfit Fidelity 400 E. 2nd St. Boyertown\, PA 19512
UID:e.2183.848742
SEQUENCE:3
DTSTAMP:20260421T013213Z
URL:https://business.tricountyareachamber.com/events/details/crossfit-fidelity-shatter-the-stigma-848742
END:VEVENT

END:VCALENDAR
