BEGIN:VCALENDAR
VERSION:2.0
PRODID:-//ChamberMaster//Event Calendar 2.0//EN
METHOD:PUBLISH
X-PUBLISHED-TTL:P3D
REFRESH-INTERVAL:P3D
CALSCALE:GREGORIAN
BEGIN:VEVENT
DTSTART:20170303T160000Z
DTEND:20170303T170000Z
X-MICROSOFT-CDO-ALLDAYEVENT:FALSE
SUMMARY:Cuisine India Grand Opening
DESCRIPTION:Grand Opening - March 3 at 11AM!\n\n\nJoin us on opening day for a ribbon cutting ceremony by our honorable guests:\n\n	Joe Gale\, Montgomery County Commissioner\n	Daniel D. Weand\, Pottstown Council President
X-ALT-DESC;FMTTYPE=text/html:<div style="text-align: center\;"><span style="font-size:22px\;"><span style="font-family:comic sans ms\;"><em><strong>Grand Opening - March 3 at 11AM!</strong></em></span></span></div>\n<br />\nJoin us on opening day for a ribbon cutting ceremony by our honorable guests:\n<ul>\n	<li>Joe Gale\, Montgomery County Commissioner</li>\n	<li>Daniel D.&nbsp\;Weand\, Pottstown Council President</li>\n</ul>\n
LOCATION:Cuisine India 232 King Street Pottstown\, PA 19464
UID:e.2183.847562
SEQUENCE:3
DTSTAMP:20260420T164140Z
URL:https://business.tricountyareachamber.com/events/details/cuisine-india-grand-opening-847562
END:VEVENT

END:VCALENDAR
