BEGIN:VCALENDAR
VERSION:2.0
PRODID:-//ChamberMaster//Event Calendar 2.0//EN
METHOD:PUBLISH
X-PUBLISHED-TTL:P3D
REFRESH-INTERVAL:P3D
CALSCALE:GREGORIAN
BEGIN:VEVENT
DTSTART;VALUE=DATE:20170316
DTEND;VALUE=DATE:20170317
TRANSP:TRANSPARENT
X-MICROSOFT-CDO-ALLDAYEVENT:TRUE
SUMMARY:Customer Appreciation Wine & Cheese Event
DESCRIPTION:Customer Appreciation Wine & Cheese Event!\n\n\n\nEleven Hour Sale!\n\nThursday\, March 16\, 2017\n\nWine & Cheese Served 4-9PM\n\n\n\nTake an extra 12% to 20% off our sale prices*\n\n15% off pre-season sale on outdoor furniture*\n\nFree local delivery** 1/2 price non-local delivery \n\n\n\nEnter Drawings to Win: 2 Gift Cards\, 2 LA-Z-BOY Recliners\, Leather Recliner\, 5-Piece Jofran Kitchen Set\, 60" Entertainment Console\, Malibu Outdoor Adirondack Chair\, Klaussner Outdoor Swivel Chair Every customer will receive a nice carry bag (one per family).\n\n\n\nMOORESFURNITURE.COM\n\n\n\n*Prior sales\, specials\, clearance items and all items 50% off excluded\, cash/check discount price\n\n**Free local delivery for non-clearance items over $499
X-ALT-DESC;FMTTYPE=text/html:<div style="text-align: center\;"><span style="font-size:16px\;"><em><strong>Customer Appreciation Wine &amp\; Cheese Event!</strong></em></span><br />\n<br />\n<span style="font-size:14px\;">Eleven Hour Sale!<br />\n<strong>Thursday\, March 16\, 2017</strong><br />\nWine &amp\; Cheese Served 4-9PM</span><br />\n<br />\nT<span style="font-size:14px\;">ake an extra 12% to 20% off our sale prices*<br />\n15% off pre-season sale on outdoor furniture*<br />\nFree local delivery** 1/2 price non-local delivery </span><br />\n<br />\n<em><strong>Enter Drawings to Win:</strong></em> 2 Gift Cards\, 2 LA-Z-BOY Recliners\, Leather Recliner\, 5-Piece Jofran Kitchen Set\, 60&quot\; Entertainment Console\, Malibu Outdoor Adirondack Chair\, Klaussner Outdoor Swivel Chair Every customer will receive a nice carry bag (one per family).<br />\n<br />\n<a href="http://www.mooresfurniture.com">MOORESFURNITURE.COM</a><br />\n<br />\n*Prior sales\, specials\, clearance items and all items 50% off excluded\, cash/check discount price<br />\n**Free local delivery for non-clearance items over $499</div>\n
LOCATION:Moore's Fine Furniture 3291 W. Ridge Pike Pottstown\, PA 19464
UID:e.2183.847572
SEQUENCE:3
DTSTAMP:20260420T164022Z
URL:https://business.tricountyareachamber.com/events/details/customer-appreciation-wine-cheese-event-847572
END:VEVENT

END:VCALENDAR
