BEGIN:VCALENDAR
VERSION:2.0
PRODID:-//ChamberMaster//Event Calendar 2.0//EN
METHOD:PUBLISH
X-PUBLISHED-TTL:P3D
REFRESH-INTERVAL:P3D
CALSCALE:GREGORIAN
BEGIN:VEVENT
DTSTART:20170331T123000Z
DTEND:20170331T140000Z
X-MICROSOFT-CDO-ALLDAYEVENT:FALSE
SUMMARY:"Cyber Security in Small Business" Workshop
DESCRIPTION:The third in a series of "Refresh Fridays" will focus on cyber security in small business. Once reserved for only large\, high-profile consumer companies\, data breaches and other cyber-attacks are becoming increasingly common for many small and medium size businesses. The losses from these unfortunate situations often present significant financial and legal consequences that could deliver a lasting negative impact. Matthew Miller\, Managing Executive and Chief Information Officer of First Priority Bank\, will explore the risks\, realities and insights to best defend against potential cyber breaches and loss.
X-ALT-DESC;FMTTYPE=text/html:<span style="font-family:times new roman\,serif\;"><span style="font-size:12.0pt\;">The third in a series of <strong>&ldquo\;Refresh Fridays&rdquo\;</strong> will focus on cyber security in small business<span style="font-size:16px\;"><span style="font-family:times new roman\;">. </span></span>Once reserved for only large\, high-profile consumer companies\, <strong>data</strong> <strong>breaches</strong> and other <strong>cyber-attacks</strong> are becoming increasingly common for many small and medium size businesses. The losses from these unfortunate situations often present significant financial and legal consequences that could deliver a lasting negative impact. <strong>Matthew Miller</strong>\, Managing Executive and Chief Information Officer of First Priority Bank\, will explore the risks\, realities and insights to best defend against potential cyber breaches and loss.</span></span>
LOCATION:Chamber Office 152 E. High St.\, Suite 360 Pottstown\, PA 19464
UID:e.2183.847413
SEQUENCE:3
DTSTAMP:20260420T164134Z
URL:https://business.tricountyareachamber.com/events/details/cyber-security-in-small-business-workshop-847413
END:VEVENT

END:VCALENDAR
