BEGIN:VCALENDAR
VERSION:2.0
PRODID:-//ChamberMaster//Event Calendar 2.0//EN
METHOD:PUBLISH
X-PUBLISHED-TTL:P3D
REFRESH-INTERVAL:P3D
CALSCALE:GREGORIAN
BEGIN:VEVENT
DTSTART:20170816T153000Z
DTEND:20170816T163000Z
X-MICROSOFT-CDO-ALLDAYEVENT:FALSE
SUMMARY:DaBrian Marketing Hosts an Exclusive Retail & Ecommerce Digital Marketing Event with Google
DESCRIPTION:On August 16\, 2017\, at 11:30 AM\, the digital marketing experts at DaBrian Marketing invite local retail & E-commerce businesses to learn how to turn shoppers into customers through effective digital marketing strategies. The event includes an exclusive live-stream from Google representatives.This is only available through participating official Google Partners\, such as DaBrian Marketing Group. The event will be held at the digital agency's office located at 500 Penn Street\, Suite 201\, Reading\, PA 19602.\n\nDaBrian Marketing Group will provide lunch and additional tips that will help your business increase brand/product awareness\, generate sign-ups\, increase in-store or online sales\, and measure your digital marketing strategies. The team will evaluate your website\, local listings\, or AdWords campaigns to provide recommendations based on increasing your revenue. \n\nStart turning more shoppers into profitable customers - Register today! Spaces are limited so do not delay.
X-ALT-DESC;FMTTYPE=text/html:<p><span style="background-color:transparent\; color:rgb(0\, 0\, 0)\; font-family:arial\; font-size:11pt">On August 16\, </span>2017<span style="background-color:transparent\; color:rgb(0\, 0\, 0)\; font-family:arial\; font-size:11pt">\, at 11:30 AM\, the digital marketing experts at DaBrian Marketing invite local retail &amp\; </span>E-commerce<span style="background-color:transparent\; color:rgb(0\, 0\, 0)\; font-family:arial\; font-size:11pt"> businesses to learn how to turn shoppers into customers through effective digital marketing strategies. The event includes an exclusive live-stream from Google representatives.This is only available through participating official Google Partners\, such as DaBrian Marketing Group. The event will be held at the digital </span>agency&#39\;s<span style="background-color:transparent\; color:rgb(0\, 0\, 0)\; font-family:arial\; font-size:11pt"> office located at 500 Penn Street\, Suite 201\, Reading\, PA 19602.</span></p>\n\n<p><span style="background-color:transparent\; color:rgb(0\, 0\, 0)\; font-family:arial\; font-size:11pt">DaBrian Marketing Group will provide lunch and additional tips that will help your business increase brand/product awareness\, generate sign-ups\, increase in-store or online sales\, and measure your digital marketing strategies. The team will evaluate your website\, local listings\, or AdWords campaigns to provide recommendations based on increasing your revenue. </span></p>\n\n<p><span style="background-color:transparent\; color:rgb(0\, 0\, 0)\; font-family:arial\; font-size:11pt">Start turning more shoppers into profitable customers - Register today! Spaces are limited so do not delay. </span></p>\n\n<p>&nbsp\;</p>\n
LOCATION:500 Penn Street Suite 201 Reading\, PA 19602
UID:e.2183.848731
SEQUENCE:3
DTSTAMP:20260421T013207Z
URL:https://business.tricountyareachamber.com/events/details/dabrian-marketing-hosts-an-exclusive-retail-ecommerce-digital-marketing-event-with-google-848731
END:VEVENT

END:VCALENDAR
