BEGIN:VCALENDAR
VERSION:2.0
PRODID:-//ChamberMaster//Event Calendar 2.0//EN
METHOD:PUBLISH
X-PUBLISHED-TTL:P3D
REFRESH-INTERVAL:P3D
CALSCALE:GREGORIAN
BEGIN:VEVENT
DTSTART:20250327T223000Z
DTEND:20250328T000000Z
X-MICROSOFT-CDO-ALLDAYEVENT:FALSE
SUMMARY:Dementia support group: Positive Approach to Care series
DESCRIPTION:Are you caring for a loved one living with memory impairment? Join us at Keystone Villa at Douglassville for a Positive Approach to Care series featuring various topics to help you overcome caregiving challenges. Our dementia support group meets in the Personal Care building\, 1152 Ben Franklin Highway E.\, from 6:30-8 p.m. on the last Thursday of every month. The upcoming series includes: Thursday\, Jan. 30   Positive Approach to Communication. Learn different approaches to use to communicate positively with a person with dementia. Thursday\, Feb. 27   Managing Care Needs. Learn strategies to cope with the challenges at each stage\, find the support you need\, and reap the rewards of caregiving. Thursday\, March 27   Exploring Dietary Options. Learn how to implement effective dietary strategies to ensure optimal nutrition for your loved one. RSVPs are appreciated\; please call Rose Anne or Jen at 610-385-5002 or email rklementisz@keystonevillaatdouglassville.com.
X-ALT-DESC;FMTTYPE=text/html:Are you caring for a loved one living with memory impairment? Join us at Keystone Villa at Douglassville for a Positive Approach to Care series featuring various topics to help you overcome caregiving challenges. Our dementia support group meets in the Personal Care building\, 1152 Ben Franklin Highway E.\, from 6:30-8 p.m. on the last Thursday of every month. The upcoming series includes: Thursday\, Jan. 30 &ndash\; Positive Approach to Communication. Learn different approaches to use to communicate positively with a person with dementia. Thursday\, Feb. 27 &ndash\; Managing Care Needs. Learn strategies to cope with the challenges at each stage\, find the support you need\, and reap the rewards of caregiving. Thursday\, March 27 &ndash\; Exploring Dietary Options. Learn how to implement effective dietary strategies to ensure optimal nutrition for your loved one. RSVPs are appreciated\; please call Rose Anne or Jen at 610-385-5002 or email rklementisz@keystonevillaatdouglassville.com.
LOCATION:Keystone Villa at Douglassville\, Personal Care building\, 1152 Ben Franklin Highway E.
UID:e.2183.861639
SEQUENCE:3
DTSTAMP:20260421T133011Z
URL:https://business.tricountyareachamber.com/events/details/dementia-support-group-positive-approach-to-care-series-03-27-2025-861639
END:VEVENT

END:VCALENDAR
