BEGIN:VCALENDAR
VERSION:2.0
PRODID:-//ChamberMaster//Event Calendar 2.0//EN
METHOD:PUBLISH
X-PUBLISHED-TTL:P3D
REFRESH-INTERVAL:P3D
CALSCALE:GREGORIAN
BEGIN:VEVENT
DTSTART:20170610T203000Z
DTEND:20170611T010000Z
X-MICROSOFT-CDO-ALLDAYEVENT:FALSE
SUMMARY:Designer Bag Bingo
DESCRIPTION:Pottstown Area Police Athletic League presents\n\nDesigner Bag Bingo!\n\n \n\nTickets are $20 per person and include:\n\n\n	20 games of Bingo\n	4 Special Games plus One Jackpot\n\nWin a variety of Designer Bags\, plus Door Prizes!\n\nCoach\, Michael Kors\, Kate Spade\, and more!\n\n\n\nQuestions or more information - contact PAL at 610.327.0527
X-ALT-DESC;FMTTYPE=text/html:<div style="text-align: center\;"><span style="font-size:16px\;"><strong>Pottstown Area Police Athletic League presents<br />\nDesigner Bag Bingo!</strong></span><br />\n&nbsp\;</div>\n\n<div><span style="font-size:14px\;">Tickets are $20 per person and include:</span></div>\n\n<ul>\n	<li><span style="font-size:14px\;">20 games of Bingo</span></li>\n	<li><span style="font-size:14px\;">4 Special Games plus One Jackpot</span></li>\n</ul>\n<span style="font-size:14px\;">Win a variety of Designer Bags\, plus Door Prizes!<br />\nCoach\, Michael Kors\, Kate Spade\, and more!<br />\n<br />\nQuestions or more information - contact PAL at 610.327.0527</span>
LOCATION:North End Fire Fall 301 Prospect Street Pottstown\, PA 19464
UID:e.2183.847684
SEQUENCE:3
DTSTAMP:20260420T213438Z
URL:https://business.tricountyareachamber.com/events/details/designer-bag-bingo-847684
END:VEVENT

END:VCALENDAR
