BEGIN:VCALENDAR
VERSION:2.0
PRODID:-//ChamberMaster//Event Calendar 2.0//EN
METHOD:PUBLISH
X-PUBLISHED-TTL:P3D
REFRESH-INTERVAL:P3D
CALSCALE:GREGORIAN
BEGIN:VEVENT
DTSTART:20171104T140000Z
DTEND:20171104T170000Z
X-MICROSOFT-CDO-ALLDAYEVENT:FALSE
SUMMARY:Diner Day
DESCRIPTION:Diner Day is one of the Museum's most popular events. Guests can sit inside the beautifully preserved Fegely's Reading Diner and enjoy pie and coffee at 1938 prices. That means a quarter for a slice of pie and a nickel for a cup of coffee!
X-ALT-DESC;FMTTYPE=text/html:Diner Day is one of the Museum&#39\;s most popular events. Guests can sit inside the beautifully preserved Fegely&#39\;s Reading Diner and enjoy pie and coffee at 1938 prices. That means a quarter for a slice of pie and a nickel for a cup of coffee!
LOCATION:85 S. Walnut Street Boyertown\, PA 19512
UID:e.2183.848745
SEQUENCE:3
DTSTAMP:20260421T060640Z
URL:https://business.tricountyareachamber.com/events/details/diner-day-848745
END:VEVENT

END:VCALENDAR
