BEGIN:VCALENDAR
VERSION:2.0
PRODID:-//ChamberMaster//Event Calendar 2.0//EN
METHOD:PUBLISH
X-PUBLISHED-TTL:P3D
REFRESH-INTERVAL:P3D
CALSCALE:GREGORIAN
BEGIN:VEVENT
DTSTART:20171118T220000Z
DTEND:20171119T020000Z
X-MICROSOFT-CDO-ALLDAYEVENT:FALSE
SUMMARY:Dinner and Jazz to Support the Homeless
DESCRIPTION:Wing's of Victory's 4th Annual\n\nDinner and Jazz to Support the Homeless\n\n\n\nIn addition to the dinner and jazz\, there will be a silent auction. Click here to see the flyer for more details.\n\n \n\nTicket orders or donations to help those experiencing homelessness can be made through this website or by sending your check or money order to: Wings of Victory Outreach\, P.O. Box 242\, Pottstown\, PA 19464.\n\n \n\n \n\nIf you like to support the event\, you can become a patron and you will be listed on the program for the event.  Click here for more details.  \n\n \n\nQuestions and concerns can be directed to:\n\n\n	Marlene Wood at mwood@bccl.org or (610) 322-6159\n	Gina Griffin at ginaygriffin12@gmail.com or (267) 751-5537
X-ALT-DESC;FMTTYPE=text/html:<p style="margin: 0px 0px 1em\; font-family: Arial\, sans-serif\; font-size: 1.1em\; color: rgb(85\, 85\, 85)\; line-height: 18.9728px\; background-color: rgb(255\, 255\, 255)\; padding-top: 0px !important\; padding-bottom: 0px !important\; text-align: center\;"><span style="font-size:18px\;"><strong>Wing&#39\;s of Victory&#39\;s 4th Annual<br />\nDinner and Jazz to Support the Homeless</strong></span></p>\n\n<p style="margin: 0px 0px 1em\; font-family: Arial\, sans-serif\; font-size: 1.1em\; color: rgb(85\, 85\, 85)\; line-height: 18.9728px\; background-color: rgb(255\, 255\, 255)\; padding-top: 0px !important\; padding-bottom: 0px !important\;"><br />\nIn addition to the dinner and jazz\, there will be a silent auction. Click&nbsp\;<a href="https://dk-media.s3.amazonaws.com/AA/AG/wingsofvictory-biz/downloads/327147/2017_Banquet_flyer.pdf" style="cursor: pointer\; outline: none !important\; color: rgb(146\, 165\, 56)\;" target="_blank">here</a>&nbsp\;to see the flyer for more details.</p>\n\n<p style="margin: 0px 0px 1em\; font-family: Arial\, sans-serif\; font-size: 1.1em\; color: rgb(85\, 85\, 85)\; line-height: 18.9728px\; background-color: rgb(255\, 255\, 255)\; padding-top: 0px !important\; padding-bottom: 0px !important\;">&nbsp\;</p>\n\n<p style="margin: 0px 0px 1em\; font-family: Arial\, sans-serif\; font-size: 1.1em\; color: rgb(85\, 85\, 85)\; line-height: 18.9728px\; background-color: rgb(255\, 255\, 255)\; padding-top: 0px !important\; padding-bottom: 0px !important\;"><strong><em>Ticket orders or donations to help those experiencing homelessness can be made&nbsp\;</em></strong><a href="http://www.wingsofvictoryoutreach.org/home/make_a_difference" style="cursor: pointer\; outline: none !important\; color: rgb(146\, 165\, 56)\;">through this website</a><strong><em>&nbsp\;or&nbsp\;by sending your check or money order to:&nbsp\;</em></strong><strong style="background-color: initial\;">Wings of Victory Outreach\, P.O. Box 242\, Pottstown\, PA 19464.</strong></p>\n\n<p style="margin: 0px 0px 1em\; font-family: Arial\, sans-serif\; font-size: 1.1em\; color: rgb(85\, 85\, 85)\; line-height: 18.9728px\; background-color: rgb(255\, 255\, 255)\; padding-top: 0px !important\; padding-bottom: 0px !important\;">&nbsp\;</p>\n\n<p style="margin: 0px 0px 1em\; font-family: Arial\, sans-serif\; font-size: 1.1em\; color: rgb(85\, 85\, 85)\; line-height: 18.9728px\; background-color: rgb(255\, 255\, 255)\; padding-top: 0px !important\; padding-bottom: 0px !important\;">&nbsp\;</p>\n\n<p style="margin: 0px 0px 1em\; font-family: Arial\, sans-serif\; font-size: 1.1em\; color: rgb(85\, 85\, 85)\; line-height: 18.9728px\; background-color: rgb(255\, 255\, 255)\; padding-top: 0px !important\; padding-bottom: 0px !important\;">If you like to support the event\, you can become a patron and you will be listed on the program for the event. &nbsp\;Click&nbsp\;<a href="https://dk-media.s3.amazonaws.com/AA/AG/wingsofvictory-biz/downloads/327148/2017_Banquet_Patron_Form.pdf" style="cursor: pointer\; outline: none !important\; color: rgb(146\, 165\, 56)\;" target="_blank">here</a>&nbsp\;for more details. &nbsp\;</p>\n\n<p style="margin: 0px 0px 1em\; font-family: Arial\, sans-serif\; font-size: 1.1em\; color: rgb(85\, 85\, 85)\; line-height: 18.9728px\; background-color: rgb(255\, 255\, 255)\; padding-top: 0px !important\; padding-bottom: 0px !important\;">&nbsp\;</p>\n\n<p style="margin: 0px 0px 1em\; font-family: Arial\, sans-serif\; font-size: 1.1em\; color: rgb(85\, 85\, 85)\; line-height: 18.9728px\; background-color: rgb(255\, 255\, 255)\; padding-top: 0px !important\; padding-bottom: 0px !important\;">Questions and concerns can be directed to:</p>\n\n<ul style="margin-top: 0px\; margin-bottom: 1em\; clear: both\; padding-bottom: 0.8em\; color: rgb(85\, 85\, 85)\; font-family: Arial\, sans-serif\; font-size: 12.32px\; background-color: rgb(255\, 255\, 255)\;">\n	<li style="font-size: 1.1em\;">Marlene Wood at&nbsp\;<a href="mailto:mwood@bccl.org" style="cursor: pointer\; outline: none !important\; color: rgb(146\, 165\, 56)\; background-color: initial\; font-size: 14px\;">mwood@bccl.org</a>&nbsp\;or (610) 322-6159</li>\n	<li style="font-size: 1.1em\;">Gina Griffin at&nbsp\;<a href="mailto:ginaygriffin12@gmail.com" style="cursor: pointer\; outline: none !important\; color: rgb(146\, 165\, 56)\; background-color: initial\; font-size: 14px\;">ginaygriffin12@gmail.com</a>&nbsp\;or (267) 751-5537</li>\n</ul>\n
LOCATION:SunnyBrook Ballroom 50 Sunnybrook Rd Pottstown\, PA 19464
UID:e.2183.848882
SEQUENCE:3
DTSTAMP:20260421T061019Z
URL:https://business.tricountyareachamber.com/events/details/dinner-and-jazz-to-support-the-homeless-848882
END:VEVENT

END:VCALENDAR
