BEGIN:VCALENDAR
VERSION:2.0
PRODID:-//ChamberMaster//Event Calendar 2.0//EN
METHOD:PUBLISH
X-PUBLISHED-TTL:P3D
REFRESH-INTERVAL:P3D
CALSCALE:GREGORIAN
BEGIN:VEVENT
DTSTART:20240814T180000Z
DTEND:20240814T190000Z
X-MICROSOFT-CDO-ALLDAYEVENT:FALSE
SUMMARY:Downsizing for small spaces
DESCRIPTION:Downsizing doesn't have to be daunting. With the right game plan\, you can conquer the task with ease. Join us for a free seminar at Keystone Villa at Douglassville\, Independent Living\, 1180 Ben Franklin Highway E.\, on Wednesday\, Aug. 14\, at 2 p.m. in our community room. Learn how to downsize for small spaces with our guest presenter\, Liz Fry\, the president and founder of Beyond the Fork in the Road. She will share tips for sorting\, organizing and more! Reservations are not required. For more info about the event\, please call Missy at 610-385-5000 or email mlengle@keystonevillaatdouglassville.com.
X-ALT-DESC;FMTTYPE=text/html:Downsizing doesn&rsquo\;t have to be daunting. With the right game plan\, you can conquer the task with ease. Join us for a free seminar at Keystone Villa at Douglassville\, Independent Living\, 1180 Ben Franklin Highway E.\, on Wednesday\, Aug. 14\, at 2 p.m. in our community room. Learn how to downsize for small spaces with our guest presenter\, Liz Fry\, the president and founder of Beyond the Fork in the Road. She will share tips for sorting\, organizing and more! Reservations are not required. For more info about the event\, please call Missy at 610-385-5000 or email mlengle@keystonevillaatdouglassville.com.
LOCATION:Keystone Villa at Douglassville\, Independent Living\, 1180 Ben Franklin Highway E.
UID:e.2183.860967
SEQUENCE:3
DTSTAMP:20260421T090813Z
URL:https://business.tricountyareachamber.com/events/details/downsizing-for-small-spaces-860967
END:VEVENT

END:VCALENDAR
