BEGIN:VCALENDAR
VERSION:2.0
PRODID:-//ChamberMaster//Event Calendar 2.0//EN
METHOD:PUBLISH
X-PUBLISHED-TTL:P3D
REFRESH-INTERVAL:P3D
CALSCALE:GREGORIAN
BEGIN:VEVENT
DTSTART:20161117T220000Z
DTEND:20161118T010000Z
X-MICROSOFT-CDO-ALLDAYEVENT:FALSE
SUMMARY:Dream\, Girl
DESCRIPTION:Join YWCA Tri-County Area in an exploration of what it means to be a female entrepreneur. On November 17th we will be hosting a documentary screening of the ground-breaking film Dream\, Girl and a vendor fair featuring all women-owned local businesses!\n\n\n\nSupporting local women-owned businesses this holiday season is a great way to show your support for women's empowerment and the local small-business community. Join us!
X-ALT-DESC;FMTTYPE=text/html:Join YWCA Tri-County Area in an exploration of what it means to be a female entrepreneur. On November 17th we will be hosting a documentary screening of the ground-breaking film <em>Dream\, Girl</em> and a vendor fair featuring all women-owned local businesses!<br />\n<br />\nSupporting local women-owned businesses this holiday season is a great way to show your support for women&#39\;s empowerment and the local small-business community. Join us!
LOCATION:Connections on High Cafe 238 E. High Street Pottstown\, PA 19464
UID:e.2183.847366
SEQUENCE:3
DTSTAMP:20260422T113024Z
URL:https://business.tricountyareachamber.com/events/details/dream-girl-847366
END:VEVENT

END:VCALENDAR
