BEGIN:VCALENDAR
VERSION:2.0
PRODID:-//ChamberMaster//Event Calendar 2.0//EN
METHOD:PUBLISH
X-PUBLISHED-TTL:P3D
REFRESH-INTERVAL:P3D
CALSCALE:GREGORIAN
BEGIN:VEVENT
DTSTART:20221201T210000Z
DTEND:20221202T000000Z
X-MICROSOFT-CDO-ALLDAYEVENT:FALSE
SUMMARY:Dual Chamber Mixer
DESCRIPTION:Online registration closes at 5 PM on Wednesday\, November 23 - please contact the office after this date for registration.\n\n\n\nAs a Chamber member\, you have the opportunity to grow your connections with networking events. This Combined Mixer\, hosted by Boyertown Museum of Historic Vehicles\, as well as TriCounty Area Chamber\, and the Northeast Berks Chamber\, is a great way to meet new businesspeople in a casual setting! \n\nThere will be:\n\n\n	Appetizers\n	Hot Chocolate Buffet\n	Building Relationships with people from other Chambers\n	lots of fun.\n	Plus\, if you bring a gift basket (value of $75) for a door prize\, you will get 1 minute of time to speak about your business.
X-ALT-DESC;FMTTYPE=text/html:<div><span style="font-family:arial\;"><strong>Online registration closes at 5 PM on Wednesday\, November 23 - please contact the office after this date for registration.</strong><br />\n<br />\nAs a Chamber member\, you have the opportunity to grow your connections with networking events. This Combined&nbsp\;Mixer\, hosted by Boyertown Museum of Historic Vehicles\, as well as TriCounty Area Chamber\, and the Northeast Berks&nbsp\;Chamber\,&nbsp\;is a great way to meet new businesspeople&nbsp\;in a casual setting!&nbsp\;</span></div>\n\n<div><span style="font-family:arial\;">There will be:</span></div>\n\n<ul>\n	<li><span style="font-family:arial\;">Appetizers</span></li>\n	<li><span style="font-family:arial\;">Hot Chocolate Buffet</span></li>\n	<li><span style="font-family:arial\;">Building Relationships with&nbsp\;people from other Chambers</span></li>\n	<li><span style="font-family:arial\;">lots of fun.</span></li>\n	<li><span style="font-family:arial\;"><strong>Plus\, if you bring a gift basket (value of $75)&nbsp\;for a door prize\, you will get 1 minute of time to speak about your business</strong>.</span></li>\n</ul>\n
LOCATION:Boyertown Museum of Historic Vehicles
UID:e.2183.857961
SEQUENCE:3
DTSTAMP:20260422T111114Z
URL:https://business.tricountyareachamber.com/events/details/dual-chamber-mixer-857961
END:VEVENT

END:VCALENDAR
