BEGIN:VCALENDAR
VERSION:2.0
PRODID:-//ChamberMaster//Event Calendar 2.0//EN
METHOD:PUBLISH
X-PUBLISHED-TTL:P3D
REFRESH-INTERVAL:P3D
CALSCALE:GREGORIAN
BEGIN:VEVENT
DTSTART:20260405T150000Z
DTEND:20260405T200000Z
X-MICROSOFT-CDO-ALLDAYEVENT:FALSE
SUMMARY:Easter Sunday Buffet at La Massaria!
DESCRIPTION:EASTER BRUNCH SUNDAY APRIL 5TH\, 2026\n\n11am-4pm\n\n\n\nBrunch Classics\n\nMuffins\, Danish & Assorted Mini-Breakfast Breads\n\nFresh Seasonal Fruit Display\n\nScrambled Eggs\, Bacon\, Sausage\n\nPearl Sugar Belgian Waffles with Chocolate Chips\, Mixed Berry & Whipped Cream\n\nSpinach\, Goat Cheese\, Tomato & Black Olive Frittata\n\n\n\nSalads & Soups\n\nCrisp Mixed Green Salad tossed with Tomato\, Carrot & Cucumbers\n\nRanch & Balsamic Dressings\n\nClassic Caesar Salad\,\n\nCaprese Salad\n\n\n\nCountry Potato and Bacon Soup\n\nManhattan Clam Chowder\n\n\n\nCarving Station\n\nMaple Bourbon Glazed Ham with Baked Pineapples & Cherry Sauce\n\nRoast Beef with a Red Wine Au Jus\, Horseradish Sour Cream\n\n\n\nMains & Sides\n\nChicken Marsala\n\nBaked Stuffed Tilapia with Crab Imperial and topped with Mornay Sauce\n\nSeasonal Vegetable Medley\n\nMashed Potatoes\n\nRolls and Butter\n\n\n\nKids\n\nMacaroni and Cheese\n\nChicken Nuggets\n\nFrench Fries\n\n\n\nDesserts\n\nChef's Decadent Display- an assortment of fresh homemade desserts includes\, cookies\, mini-pies\, cakes & dessert bars\n\n\n\nAdult $50.00\, Children $25.00 (4-11y.o)\, Children under 4 FREE!\n\nTicket prices include PA Sales Tax & Service Charge\n\n***All sales are final\, no refund will be issued***\n\nFOLLOW THE LINK BELOW TO PURCHASE TICKETS BEFORE THEY SELL OUT!\n\nhttps://golf.campaignpilot.com/easter-brunch-2026-c5f85fab?utm_source=campaignpilot&utm_medium=widget&utm_campaign=easter-brunch-2026-c5f85fab
X-ALT-DESC;FMTTYPE=text/html:<div style="text-align:center"><span style="font-size:14.0pt">EASTER BRUNCH SUNDAY APRIL 5<sup>TH</sup>\, 2026<br />\n11am-4pm</span><br />\n<br />\n<span style="font-size:14.0pt">Brunch Classics</span><br />\n<em><span style="font-size:12px">Muffins\, Danish &amp\; Assorted Mini-Breakfast Breads<br />\nFresh Seasonal Fruit Display<br />\nScrambled Eggs\, Bacon\, Sausage</span><br />\n<span style="font-size:12px">Pearl Sugar Belgian Waffles with Chocolate Chips\, Mixed Berry &amp\; Whipped Cream</span><br />\n<span style="font-size:12px">Spinach\, Goat Cheese\, Tomato &amp\; Black Olive Frittata</span></em><br />\n<br />\n<span style="font-size:14.0pt">Salads &amp\; Soups</span><br />\n<em><span style="font-size:12px">Crisp Mixed Green Salad tossed with Tomato\, Carrot &amp\; Cucumbers<br />\nRanch &amp\; Balsamic Dressings</span><br />\n<span style="font-size:12px">Classic Caesar Salad\,<br />\nCaprese Salad<br />\n<br />\nCountry Potato and Bacon Soup<br />\nManhattan Clam Chowder</span></em><br />\n<br />\n<span style="font-size:14.0pt">Carving Station</span><br />\n<em><span style="font-size:12px">Maple Bourbon Glazed Ham with Baked Pineapples &amp\; Cherry Sauce<br />\nRoast Beef with a Red Wine Au Jus\, Horseradish Sour Cream</span></em><br />\n<br />\n<span style="font-size:14.0pt">Mains &amp\; Sides</span><br />\n<em><span style="font-size:12px">Chicken Marsala<br />\nBaked Stuffed Tilapia with Crab Imperial and topped with Mornay Sauce<br />\nSeasonal Vegetable Medley<br />\nMashed Potatoes<br />\nRolls and Butter</span></em><br />\n<br />\n<span style="font-size:14.0pt">Kids</span><br />\n<em><span style="font-size:14.0pt"><span style="font-size:12px">Macaroni and Cheese<br />\nChicken Nuggets<br />\nFrench Fries</span></span></em><br />\n<br />\n<span style="font-size:14.0pt">Desserts</span><br />\n<em><span style="font-size:12px">Chef&rsquo\;s Decadent Display- an assortment of fresh homemade desserts includes\, cookies\, mini-pies\, cakes &amp\; dessert bars<br />\n<br />\nAdult $50.00\, Children $25.00 (4-11y.o)\, Children under 4 FREE!<br />\nTicket prices include PA Sales Tax &amp\; Service Charge<br />\n***All sales are final\, no refund will be issued***<br />\nFOLLOW THE LINK BELOW TO PURCHASE TICKETS BEFORE THEY SELL OUT!</span></em><br />\nhttps://golf.campaignpilot.com/easter-brunch-2026-c5f85fab?utm_source=campaignpilot&amp\;utm_medium=widget&amp\;utm_campaign=easter-brunch-2026-c5f85fab&nbsp\; &nbsp\;<br />\n&nbsp\;</div>\n
LOCATION:The Main Ballroom La Massaria at Bella Vista 2901 Fagleysville Road Gilbertsville\, PA 19525 610-705-1855 ext. 226
UID:e.2183.864591
SEQUENCE:3
DTSTAMP:20260422T153406Z
URL:https://business.tricountyareachamber.com/events/details/easter-sunday-buffet-at-la-massaria-864591
END:VEVENT

END:VCALENDAR
