BEGIN:VCALENDAR
VERSION:2.0
PRODID:-//ChamberMaster//Event Calendar 2.0//EN
METHOD:PUBLISH
X-PUBLISHED-TTL:P3D
REFRESH-INTERVAL:P3D
CALSCALE:GREGORIAN
BEGIN:VEVENT
DTSTART:20151021T153000Z
DTEND:20151021T173000Z
X-MICROSOFT-CDO-ALLDAYEVENT:FALSE
SUMMARY:Economic Development Luncheon
DESCRIPTION:Cultivating regional strength - this event will feature a joint three-county panel discussion with Commissioners Christian Leinbach\, Berks County\; Michelle Kichline\, Chester County\; and Valerie Arkoosh\, Montgomery County. The Economic Development Awards will also be presented.\n\n\n\nRegistration and prepayment required! Contact Kitty Papp at 610-326-2900 or kitty@tricountyareachamber.com.
X-ALT-DESC;FMTTYPE=text/html:<p><em>Cultivating</em> regional strength - this event will feature a joint three-county panel discussion with Commissioners <strong>Christian Leinbach</strong>\, <st1:placename w:st="on">Berks&nbsp\;</st1:placename><st1:placetype w:st="on">County</st1:placetype>\; <strong>Michelle Kichline</strong>\, <st1:placename w:st="on">Chester</st1:placename> <st1:placetype w:st="on">County</st1:placetype>\; and <strong>Valerie </strong><strong>Arkoosh</strong>\, <st1:place w:st="on"><st1:placename w:st="on">Montgomery</st1:placename> <st1:placetype w:st="on">County</st1:placetype></st1:place>. The Economic Development Awards will also be presented.<br />\n<br />\n<strong style="color: rgb(255\, 0\, 0)\; font-family: arial\; font-size: 12px\; line-height: 1.6\;">Registration and prepayment required! Contact Kitty Papp at 610-326-2900 or <a href="mailto:kitty@tricountyareachamber.com">kitty@tricountyareachamber.com</a>.</strong><br />\n&nbsp\;</p>\n\n<p><br />\n<br />\n<br />\n<o:p _rdeditor_exists="1"></o:p><br />\n&nbsp\;</p>\n
LOCATION:Copperfield Inn at Lakeside 594 W. Ridge Pike Limerick\, PA 19468
UID:e.2183.845052
SEQUENCE:3
DTSTAMP:20260426T024732Z
URL:https://business.tricountyareachamber.com/events/details/economic-development-luncheon-10-21-2015-845052
END:VEVENT

END:VCALENDAR
