BEGIN:VCALENDAR
VERSION:2.0
PRODID:-//ChamberMaster//Event Calendar 2.0//EN
METHOD:PUBLISH
X-PUBLISHED-TTL:P3D
REFRESH-INTERVAL:P3D
CALSCALE:GREGORIAN
BEGIN:VEVENT
DTSTART:20170112T120000Z
DTEND:20170112T140000Z
X-MICROSOFT-CDO-ALLDAYEVENT:FALSE
SUMMARY:Economic Forecast Breakfast
DESCRIPTION:Please call 610.326.2900 if you would like to register for this event. Online registration is currently closed. \n\n\n\nKamran Afshar\, Ph.D\, President\, KAA\, Inc. will present on the State of the Economy   Past\, Present and Future.  Join us for a brief analysis of the state of the economy\, national as well as local to include the Federal Reserve's monetary policy and its impact on interest rates and the stock market.  Also included will be a forecast of economic growth and employment in light of the new administration's economic policies along with a review of the critical issues facing the economy going forward.\n\n\n\nOnline registration closes on 1/11 at 7:30 AM - please call the office if you would like to register after this time. \nRegistration required!
X-ALT-DESC;FMTTYPE=text/html:<strong><span style="font-family:times new roman\,serif\;"><span style="font-size:12.0pt\;"><span style="font-size:22px\;"><u>Please call 610.326.2900 if you would like to register for this event. Online registration is currently closed.&nbsp\;</u></span><br />\n<br />\nKamran Afshar</span></span></strong><span style="font-family:times new roman\,serif\;"><span style="font-size:12.0pt\;">\, Ph.D\, President\, KAA\, Inc. will present on the <strong>State of the Economy &ndash\; Past\, Present and Future</strong>.&nbsp\; Join us for a brief analysis of the state of the economy\, national as well as local to include the Federal Reserve&rsquo\;s monetary policy and its impact on interest rates and the stock market.&nbsp\; Also included will be a forecast of economic growth and employment in light of the new administration&rsquo\;s economic policies along with a review of the critical issues facing the economy going forward.</span></span><br />\n<br />\n<strong style="color: rgb(51\, 51\, 51)\; font-family: arial\; font-size: 12px\; line-height: 12.8px\; background-color: rgb(255\, 255\, 255)\;"><em>Online registration closes on 1/11 at 7:30 AM - please call the office if you would like to register after this time.&nbsp\;</em></strong>\n<p><span style="font-size: 13px\;"><span style="font-family: arial\; font-size: 12px\;"><span style="color: #ff0000\;"><strong>Registration required!</strong></span></span></span><br />\n&nbsp\;</p>\n
LOCATION:SunnyBrook Ballroom 50 Sunnybrook Road Pottstown\, PA 19464
UID:e.2183.847301
SEQUENCE:3
DTSTAMP:20260420T132215Z
URL:https://business.tricountyareachamber.com/events/details/economic-forecast-breakfast-847301
END:VEVENT

END:VCALENDAR
