BEGIN:VCALENDAR
VERSION:2.0
PRODID:-//ChamberMaster//Event Calendar 2.0//EN
METHOD:PUBLISH
X-PUBLISHED-TTL:P3D
REFRESH-INTERVAL:P3D
CALSCALE:GREGORIAN
BEGIN:VEVENT
DTSTART:20250506T153000Z
DTEND:20250506T163000Z
X-MICROSOFT-CDO-ALLDAYEVENT:FALSE
SUMMARY:Edward Jones Outsmart The Scammers
DESCRIPTION:You have the power to\n\noutsmart the scammers\n\n\n\nIncidents of financial fraud are on the rise   and are becoming\n\nincreasingly harder to detect. While no one is immune\, there are\n\nsteps you can take to Outsmart the Scammers. Join us for this\n\npresentation and learn about the following strategies:\n\n    \n\n      How to spot certain red flags that may indicate a\n\n    fraudulent encounter\n\n      Resources you can use if you become a victim of fraud\n\n      Steps you can take now to help protect yourself and\n\n    your loved ones\n\n\n\nWe hope you and a guest will join us. Please call Rozanne Spiecker\n\nat 610-326-1035 by 04/28/2025\n\n                        Lunch will be served
X-ALT-DESC;FMTTYPE=text/html:<span style="font-size:18px"><strong>You have the power to<br />\noutsmart the scammers</strong></span><br />\n<br />\n<span style="font-size:14px">Incidents of financial fraud are on the rise &mdash\; and are becoming<br />\nincreasingly harder to detect. While no one is immune\, there are<br />\nsteps you can take to Outsmart the Scammers. Join us for this<br />\npresentation and learn about the following strategies:</span><br />\n&nbsp\;&nbsp\;&nbsp\;&nbsp\;<br />\n&nbsp\;&nbsp\;&nbsp\;&nbsp\;<span style="font-size:14px">&bull\; How to spot certain red flags that may indicate a</span><br />\n&nbsp\;&nbsp\;&nbsp\;&nbsp\;<span style="font-size:14px">fraudulent encounter</span><br />\n&nbsp\;&nbsp\;&nbsp\;&nbsp\;<span style="font-size:14px">&bull\; Resources you can use if you become a victim of fraud</span><br />\n&nbsp\;&nbsp\;&nbsp\;&nbsp\;<span style="font-size:14px">&bull\; Steps you can take now to help protect yourself and</span><br />\n&nbsp\;&nbsp\;&nbsp\;&nbsp\;<span style="font-size:14px">your loved ones<br />\n<br />\nWe hope you and a guest will join us. Please call Rozanne Spiecker<br />\nat <a class="ej-web-dial wd-link" data-wd-enabled="true" data-wd-phone-no="+16103261035" data-wd-title="Click to dial (610) 326-1035 using Web Dial." href="tel:+16103261035">610-326-1035</a> by 04/28/2025</span><br />\n&nbsp\;&nbsp\;&nbsp\;&nbsp\;&nbsp\;&nbsp\;&nbsp\;&nbsp\;&nbsp\;&nbsp\;&nbsp\;&nbsp\;&nbsp\;&nbsp\;&nbsp\;&nbsp\;&nbsp\;&nbsp\;&nbsp\;&nbsp\;&nbsp\;&nbsp\;&nbsp\;&nbsp\;<span style="font-size:14px">Lunch will be served&nbsp\;</span>&nbsp\;&nbsp\;&nbsp\;&nbsp\;
LOCATION:Frederick Living Community 2849 Big Rd. Zielgerville\, PA 19492
UID:e.2183.861673
SEQUENCE:3
DTSTAMP:20260421T113401Z
URL:https://business.tricountyareachamber.com/events/details/edward-jones-outsmart-the-scammers-05-06-2025-861673
END:VEVENT

END:VCALENDAR
