BEGIN:VCALENDAR
VERSION:2.0
PRODID:-//ChamberMaster//Event Calendar 2.0//EN
METHOD:PUBLISH
X-PUBLISHED-TTL:P3D
REFRESH-INTERVAL:P3D
CALSCALE:GREGORIAN
BEGIN:VEVENT
DTSTART:20170516T170000Z
DTEND:20170516T180000Z
X-MICROSOFT-CDO-ALLDAYEVENT:FALSE
SUMMARY:Edward Jones Perspective
DESCRIPTION:Edward Jones Perspective\n\nWith So Much Market and Economic Uncertainty\, it Can Be Difficult to Stay Focused on Your Long-term Goals.\n\nJoin us for our Edward Jones Perspective presentation. We'll discuss timely market topics and potential solutions to help you stay on track toward your financial goals.\n\nSeating is limited. Call today to reserve space for yourself and a guest at this event.\n\n\n\nQuestions - contact Rachel Kunicki or Bonnie L. Thompson at 610.326.1035.
X-ALT-DESC;FMTTYPE=text/html:<h2 style="box-sizing: border-box\; font-size: 24px\; font-weight: normal\; margin: 0px 0px 20px\; color: rgb(91\, 88\, 84)\; font-family: ProximaNova\, &quot\;Helvetica Neue&quot\;\, Helvetica\, Arial\, sans-serif\; background-color: rgb(255\, 255\, 255)\;">Edward Jones Perspective</h2>\n\n<p style="box-sizing: border-box\; margin-top: 0px\; color: rgb(91\, 88\, 84)\; font-family: ProximaNova\, &quot\;Helvetica Neue&quot\;\, Helvetica\, Arial\, sans-serif\; font-size: 16px\; background-color: rgb(255\, 255\, 255)\;" xmlns="http://www.w3.org/1999/xhtml">With So Much Market and Economic Uncertainty\, it Can Be Difficult to Stay Focused on Your Long-term Goals.</p>\n\n<p style="box-sizing: border-box\; margin-top: 0px\; color: rgb(91\, 88\, 84)\; font-family: ProximaNova\, &quot\;Helvetica Neue&quot\;\, Helvetica\, Arial\, sans-serif\; font-size: 16px\; background-color: rgb(255\, 255\, 255)\;" xmlns="http://www.w3.org/1999/xhtml">Join us for our Edward Jones Perspective presentation. We&#39\;ll discuss timely market topics and potential solutions to help you stay on track toward your financial goals.</p>\n\n<p style="box-sizing: border-box\; margin-top: 0px\; color: rgb(91\, 88\, 84)\; font-family: ProximaNova\, &quot\;Helvetica Neue&quot\;\, Helvetica\, Arial\, sans-serif\; font-size: 16px\; background-color: rgb(255\, 255\, 255)\;" xmlns="http://www.w3.org/1999/xhtml">Seating is limited. Call today to reserve space for yourself and a guest at this event.</p>\n\n<p style="box-sizing: border-box\; margin-top: 0px\; color: rgb(91\, 88\, 84)\; font-family: ProximaNova\, &quot\;Helvetica Neue&quot\;\, Helvetica\, Arial\, sans-serif\; font-size: 16px\; background-color: rgb(255\, 255\, 255)\;" xmlns="http://www.w3.org/1999/xhtml"><br />\nQuestions - contact Rachel Kunicki or Bonnie L. Thompson at 610.326.1035.</p>\n
LOCATION:Sanatoga Ridge Community 2461 East High Street Pottstown\, PA 19464
UID:e.2183.847619
SEQUENCE:3
DTSTAMP:20260420T195324Z
URL:https://business.tricountyareachamber.com/events/details/edward-jones-perspective-847619
END:VEVENT

END:VCALENDAR
