BEGIN:VCALENDAR
VERSION:2.0
PRODID:-//ChamberMaster//Event Calendar 2.0//EN
METHOD:PUBLISH
X-PUBLISHED-TTL:P3D
REFRESH-INTERVAL:P3D
CALSCALE:GREGORIAN
BEGIN:VEVENT
DTSTART;VALUE=DATE:20250421
DTEND;VALUE=DATE:20250426
TRANSP:TRANSPARENT
X-MICROSOFT-CDO-ALLDAYEVENT:TRUE
SUMMARY:Entrepreneurship Week 2025 April 21st - April 25th
DESCRIPTION:Entrepreneurship Week - Kutztown University
X-ALT-DESC;FMTTYPE=text/html:<span style="font-size:16px\;"><a href="https://www.kutztown.edu/academics/colleges-and-departments/business/entrepreneurial-leadership-center/entrepreneurship-week.html">Entrepreneurship Week - Kutztown University</a></span>
LOCATION:
UID:e.2183.861712
SEQUENCE:3
DTSTAMP:20260421T122322Z
URL:https://business.tricountyareachamber.com/events/details/entrepreneurship-week-2025-april-21st-april-25th-861712
END:VEVENT

END:VCALENDAR
