BEGIN:VCALENDAR
VERSION:2.0
PRODID:-//ChamberMaster//Event Calendar 2.0//EN
METHOD:PUBLISH
X-PUBLISHED-TTL:P3D
REFRESH-INTERVAL:P3D
CALSCALE:GREGORIAN
BEGIN:VEVENT
DTSTART:20180310T190000Z
DTEND:20180310T220000Z
X-MICROSOFT-CDO-ALLDAYEVENT:FALSE
SUMMARY:Erth's Dinosaur Zoo Live!
DESCRIPTION:Erth's DINOSAUR ZOO LIVE leads you on a breathtaking tour that begins in prehistoric Australia. Meet and interact with an eye-popping collection of life-like dinosaurs puppets presented in an entertaining and educational live theatrical performance created by Erth Visual & Physical of Sydney\, Australia.
X-ALT-DESC;FMTTYPE=text/html:Erth&rsquo\;s DINOSAUR ZOO LIVE leads you on a breathtaking tour that begins in prehistoric Australia. Meet and interact with an eye-popping collection of life-like dinosaurs puppets presented in an entertaining and educational live theatrical performance created by Erth Visual &amp\; Physical of Sydney\, Australia.
LOCATION:Santander Performing Arts Center
UID:e.2183.850232
SEQUENCE:3
DTSTAMP:20260421T123721Z
URL:https://business.tricountyareachamber.com/events/details/erth-s-dinosaur-zoo-live-850232
END:VEVENT

END:VCALENDAR
