BEGIN:VCALENDAR
VERSION:2.0
PRODID:-//ChamberMaster//Event Calendar 2.0//EN
METHOD:PUBLISH
X-PUBLISHED-TTL:P3D
REFRESH-INTERVAL:P3D
CALSCALE:GREGORIAN
BEGIN:VEVENT
DTSTART:20220201T133000Z
DTEND:20220201T140000Z
X-MICROSOFT-CDO-ALLDAYEVENT:FALSE
SUMMARY:Estate planning 101 with Curran Estate and Elder Law
DESCRIPTION:Join Keystone Villa at Douglassville as it continues its free\, three-part series featuring Curran Estate and Elder Law PLLC at the independent living community\, located at 1180 Ben Franklin Highway E.\, on Tuesday\, Feb. 1\, at 8:30 a.m. Attend in person or follow along online via Zoom! Estate planning can help protect your health care wishes\, finances\, and other beneficiaries. Learn the value of estate planning from elder law attorney Sean Curran through his discussion on asset protection\, gifting\, and important documents. In-person attendees enjoy a complimentary hot breakfast buffet\, courtesy of Keystone Villa at Douglassville. RSVPs appreciated\; please call 610-385-5000.
X-ALT-DESC;FMTTYPE=text/html:Join Keystone Villa at Douglassville as it continues its free\, three-part series featuring Curran Estate and Elder Law PLLC at the independent living community\, located at 1180 Ben Franklin Highway E.\, on Tuesday\, Feb. 1\, at 8:30 a.m. Attend in person or follow along online via Zoom! Estate planning can help protect your health care wishes\, finances\, and other beneficiaries. Learn the value of estate planning from elder law attorney Sean Curran through his discussion on asset protection\, gifting\, and important documents. In-person attendees enjoy a complimentary hot breakfast buffet\, courtesy of Keystone Villa at Douglassville. RSVPs appreciated\; please call 610-385-5000.
LOCATION:Keystone Villa at Douglassville 1180 Ben Franklin Highway E. Douglassville\, PA
UID:e.2183.857543
SEQUENCE:3
DTSTAMP:20260420T233701Z
URL:https://business.tricountyareachamber.com/events/details/estate-planning-101-with-curran-estate-and-elder-law-02-01-2022-857543
END:VEVENT

END:VCALENDAR
