BEGIN:VCALENDAR
VERSION:2.0
PRODID:-//ChamberMaster//Event Calendar 2.0//EN
METHOD:PUBLISH
X-PUBLISHED-TTL:P3D
REFRESH-INTERVAL:P3D
CALSCALE:GREGORIAN
BEGIN:VEVENT
DTSTART:20170209T230000Z
DTEND:20170210T020000Z
X-MICROSOFT-CDO-ALLDAYEVENT:FALSE
SUMMARY:Evening of Reggae with RED-I
DESCRIPTION:Hidden River Brewing Company\, located at 1808 W. Schuylkill Road\, Douglassville\, will host an evening of reggae on Thursday\, Feb. 9 from 6-9 p.m. Admission is $6\, and guests must be age 21 or older. For information\, call 484-273-2266. Music will be provided by RED-I\, a Boyertown-based reggae band comprised of Michael Arcangel on guitar and vocals\, Stephen Kurtz on bass\, Paul Jameson on guitar\, Kyle Seivard on keyboard\, Jordan Lambert on percussion and Tim Leslie on drums. Become a fan on Facebook at facebook.com/REDIMusic.
X-ALT-DESC;FMTTYPE=text/html:Hidden River Brewing Company\, located at 1808 W. Schuylkill Road\, Douglassville\, will host an evening of reggae on Thursday\, Feb. 9 from 6-9 p.m. Admission is $6\, and guests must be age 21 or older. For information\, call 484-273-2266. Music will be provided by RED-I\, a Boyertown-based reggae band comprised of Michael Arcangel on guitar and vocals\, Stephen Kurtz on bass\, Paul Jameson on guitar\, Kyle Seivard on keyboard\, Jordan Lambert on percussion and Tim Leslie on drums. Become a fan on Facebook at facebook.com/REDIMusic.
LOCATION:Hidden River Brewing Company\, 1808 W. Schuylkill Road\, Douglassville\, PA 19518
UID:e.2183.847481
SEQUENCE:3
DTSTAMP:20260420T152222Z
URL:https://business.tricountyareachamber.com/events/details/evening-of-reggae-with-red-i-847481
END:VEVENT

END:VCALENDAR
