BEGIN:VCALENDAR
VERSION:2.0
PRODID:-//ChamberMaster//Event Calendar 2.0//EN
METHOD:PUBLISH
X-PUBLISHED-TTL:P3D
REFRESH-INTERVAL:P3D
CALSCALE:GREGORIAN
BEGIN:VEVENT
DTSTART:20161106T190000Z
DTEND:20161106T220000Z
X-MICROSOFT-CDO-ALLDAYEVENT:FALSE
SUMMARY:EVITA
DESCRIPTION:With music by Elton John and Lyrics by Tim Rice\, EVITA is the rags-to-riches story of the First Lady of Argentina\, who won the love of her countrymen after marrying military leader-turned-president Juan Peron. Set in Buenos Aires between 1934-1952\, the musical follows Eva Duarte Peron on her journey from fatherless child to ambitious actress to the most powerful woman in Latin America and\, eventually\, to a saint-like figure after her death from cancer at age 33. The events in Evita's life are presented in song and editorialized on by the show's narrator\, Che.
X-ALT-DESC;FMTTYPE=text/html:With music by Elton John and Lyrics by Tim Rice\,&nbsp\;EVITA is the rags-to-riches story of the First Lady of Argentina\, who won the love of her countrymen after marrying military leader-turned-president Juan Peron. Set in Buenos Aires between 1934-1952\, the musical follows Eva Duarte Peron on her journey from fatherless child to ambitious actress to the most powerful woman in Latin America&mdash\;and\, eventually\, to a saint-like figure after her death from cancer at age 33. The events in Evita&rsquo\;s life are presented in song and editorialized on by the show&rsquo\;s narrator\, Che.
LOCATION:Shannondell Performing Arts Theater 10000 Shannondell Blvd Audubon PA\, 19403
UID:e.2183.847290
SEQUENCE:3
DTSTAMP:20260422T112638Z
URL:https://business.tricountyareachamber.com/events/details/evita-847290
END:VEVENT

END:VCALENDAR
