BEGIN:VCALENDAR
VERSION:2.0
PRODID:-//ChamberMaster//Event Calendar 2.0//EN
METHOD:PUBLISH
X-PUBLISHED-TTL:P3D
REFRESH-INTERVAL:P3D
CALSCALE:GREGORIAN
BEGIN:VEVENT
DTSTART:20170921T123000Z
DTEND:20170921T183000Z
X-MICROSOFT-CDO-ALLDAYEVENT:FALSE
SUMMARY:Evolve Her
DESCRIPTION:Looking to evolve your small business? Join us at Folino Estate Vineyard & Winery for educational sessions and networking with other growth-oriented and innovative women entrepreneurs from across the region. The day will include workshops focused on growing your business\, how to continue your success\, and marketing\, including areas of technology and social media.\n\n\n\nKeynote Speakers:\n\n	Joellen Reichenbach\, Selective Sales\, Creating Marketing Solutions - "Growing Your Small Business - Harvesting Some New Ideas!"\n	Susan Adelizzi-Schmidt\, Suasion Communications Group - "Who Runs the World? Digitally Savvy Women Entrepreneurs!"\n\nPanel discussions will follow each keynote speaker.\n\n\n\nRegistration available at http://bit.ly/evolveher.
X-ALT-DESC;FMTTYPE=text/html:Looking to evolve your small business? Join us at Folino Estate Vineyard &amp\; Winery for educational sessions and networking with other growth-oriented and innovative women entrepreneurs from across the region. The day will include workshops focused on growing your business\, how to continue your success\, and marketing\, including areas of technology and social media.<br />\n<br />\nKeynote Speakers:\n<ul>\n	<li><strong>Joellen Reichenbach</strong>\, Selective Sales\, Creating Marketing Solutions - <em>&quot\;Growing Your Small Business - Harvesting Some New Ideas!&quot\;</em></li>\n	<li><strong>Susan Adelizzi-Schmidt</strong>\, Suasion Communications Group - <em>&quot\;Who Runs the World? Digitally Savvy Women Entrepreneurs!&quot\;</em></li>\n</ul>\nPanel discussions will follow each keynote speaker.<br />\n<br />\nRegistration available at <a href="http://bit.ly/evolveher">http://bit.ly/evolveher</a>.
LOCATION:Folino Estate Vineyard & Winery 340 Old Route 22 Kutztown\, PA 19530
UID:e.2183.848773
SEQUENCE:3
DTSTAMP:20260421T024835Z
URL:https://business.tricountyareachamber.com/events/details/evolve-her-848773
END:VEVENT

END:VCALENDAR
