BEGIN:VCALENDAR
VERSION:2.0
PRODID:-//ChamberMaster//Event Calendar 2.0//EN
METHOD:PUBLISH
X-PUBLISHED-TTL:P3D
REFRESH-INTERVAL:P3D
CALSCALE:GREGORIAN
BEGIN:VEVENT
DTSTART:20260219T140000Z
DTEND:20260219T153000Z
X-MICROSOFT-CDO-ALLDAYEVENT:FALSE
SUMMARY:Executive Exchange: Construction Service Providers
DESCRIPTION:Executive Exchange for Residential and Commercial contractors and improvement consultants. Coffee & Light breakfast will be provided.\n\n\n\nWhy Attend:  \n\n	Exchange Leads: Discuss new and ongoing projects with other chamber member in the construction industry to find opportunities to collaborate.\n	Build Relationships: Connect with peers in the industry who face similar challenges and opportunities.  Develop partnerships or collaborations on larger projects. Exchange leads or client referrals to grow your business.\n	Stay Updated on Industry Trends: Keep up with emerging technologies\, materials\, and design trends from peers in the industry.\n\n Industries that would benefit from attending this monthly Roundtable include:\n\n\n	Construction & Skilled Trades:\n\n	\n		General Contracting and Subcontracting (e.g.\, framing\, roofing\, masonry).\n		Specialized trades like Plumbing\, HVAC\, and Electrical.\n	\n	\n	Property Services & Real Estate:\n	\n		Renovation Consulting and Project Management.\n		Residential and Commercial Real Estate Brokerage (for client referrals and reliable vendor lists).\n		Property Management (for maintenance and large-scale upgrades).\n	\n	\n	Design & Architecture:\n	\n		Interior Design and Home Staging.\n		Architectural and Engineering services.\n	\n	\n	Material Supply & Equipment:\n	\n		Building Material Suppliers and Lumber Yards.\n		Heavy Equipment Rental and Tool Sales.\n	\n	\n\n\nThis session is sponsored by BeMarketing!\n\nbeMarketing is a full-service marketing agency specializing in helping home services contractors achieve supercharged growth through modern digital strategies. In the rapidly evolving age of AI\, they provide business owners with the proven expertise and tools needed to dominate search results and consistently capture high-quality leads. Partner with their dedicated team to transform your online presence\, ensuring your business stays competitive and drives the predictable\, profitable results you deserve. Brandon Rost is the Founder and CEO of beMarketing\, a full-service advertising agency he launched in 2010. With over 15 years of experience in digital marketing\, Brandon has helped hundreds of businesses grow through effective strategies in paid search\, SEO\, social media\, and web development. Under his leadership\, beMarketing has become one of the region's fastest-growing agencies and has been recognized nationally by the US Search Awards for digital marketing campaigns for home services. Brandon is known for his "get it done" mentality and has expanded his business with two additional companies: 9-ONE-1 Marketing and Swag It.\n\n\n\nTCACC will plan this meet up for Renovation & Construction professionals monthly on the third Thursday.   This event is for Members only.
X-ALT-DESC;FMTTYPE=text/html:<span style="color: rgb(0\, 0\, 0)\;"><span style="font-size: 16px\;"><span style="box-sizing: border-box\; font-family: Arial\, Helvetica\, sans-serif\;"><span style="box-sizing: border-box\; font-weight: bolder\;">Executive Exchange for Residential and Commercial contractors and improvement consultants. Coffee &amp\; Light breakfast will be provided.</span><br style="box-sizing: border-box\;" />\n<br style="box-sizing: border-box\;" />\nWhy Attend:&nbsp\;&nbsp\;</span></span></span>\n<ul>\n	<li><span style="color: rgb(0\, 0\, 0)\;"><span style="font-size: 16px\;"><strong>Exchange Leads</strong>: Discuss new and ongoing projects with other chamber member in the construction industry to find opportunities to collaborate.</span></span></li>\n	<li><span style="color: rgb(0\, 0\, 0)\;"><span style="font-size: 16px\;"><strong>Build Relationships:</strong>&nbsp\;Connect with peers in the industry who face similar challenges and opportunities.&nbsp\;&nbsp\;Develop partnerships or collaborations on larger projects.&nbsp\;Exchange leads or client referrals to grow your business.</span></span></li>\n	<li><span style="color: rgb(0\, 0\, 0)\;"><span style="font-size: 16px\;"><strong>Stay Updated on Industry Trends:</strong>&nbsp\;Keep up with emerging technologies\, materials\, and design trends from peers in the industry.</span></span></li>\n</ul>\n<span style="font-family:arial\;"> <strong><span style="color:#000000\;"><span style="font-size:16px\;">Industries that would benefit from attending this monthly Roundtable include:</span></span></strong></span>\n\n<ul>\n	<li><span style="font-size:12px\;"><span style="font-family:arial\;"><span style="color:#000000\;"><b>Construction &amp\; Skilled Trades:</b></span></span></span>\n\n	<ul>\n		<li><span style="font-size:12px\;"><span style="font-family:arial\;"><span style="color:#000000\;"><b>General Contracting</b> and <b>Subcontracting</b> (e.g.\, framing\, roofing\, masonry).</span></span></span></li>\n		<li><span style="font-size:12px\;"><span style="font-family:arial\;"><span style="color:#000000\;">Specialized trades like <b>Plumbing\, HVAC\, and Electrical</b>.</span></span></span></li>\n	</ul>\n	</li>\n	<li><span style="font-size:12px\;"><span style="font-family:arial\;"><span style="color:#000000\;"><b>Property Services &amp\; Real Estate:</b></span></span></span>\n	<ul>\n		<li><span style="font-size:12px\;"><span style="font-family:arial\;"><span style="color:#000000\;"><b>Renovation Consulting</b> and <b>Project Management</b>.</span></span></span></li>\n		<li><span style="font-size:12px\;"><span style="font-family:arial\;"><span style="color:#000000\;"><b>Residential and Commercial Real Estate Brokerage</b> (for client referrals and reliable vendor lists).</span></span></span></li>\n		<li><span style="font-size:12px\;"><span style="font-family:arial\;"><span style="color:#000000\;"><b>Property Management</b> (for maintenance and large-scale upgrades).</span></span></span></li>\n	</ul>\n	</li>\n	<li><span style="font-size:12px\;"><span style="font-family:arial\;"><span style="color:#000000\;"><b>Design &amp\; Architecture:</b></span></span></span>\n	<ul>\n		<li><span style="font-size:12px\;"><span style="font-family:arial\;"><span style="color:#000000\;"><b>Interior Design</b> and <b>Home Staging</b>.</span></span></span></li>\n		<li><span style="font-size:12px\;"><span style="font-family:arial\;"><span style="color:#000000\;"><b>Architectural</b> and <b>Engineering</b> services.</span></span></span></li>\n	</ul>\n	</li>\n	<li><span style="font-size:12px\;"><span style="font-family:arial\;"><span style="color:#000000\;"><b>Material Supply &amp\; Equipment:</b></span></span></span>\n	<ul>\n		<li><span style="font-size:12px\;"><span style="font-family:arial\;"><span style="color:#000000\;"><b>Building Material Suppliers</b> and <b>Lumber Yards</b>.</span></span></span></li>\n		<li><span style="font-size:12px\;"><span style="font-family:arial\;"><span style="color:#000000\;"><b>Heavy Equipment Rental</b> and <b>Tool Sales</b>.</span></span></span></li>\n	</ul>\n	</li>\n</ul>\n\n<p><span style="font-family:arial\;"><span style="color:#000000\;"><span style="box-sizing: border-box\; font-size: 16px\;"><span style="box-sizing: border-box\;"><span style="box-sizing: border-box\; font-weight: bolder\;">This session is sponsored by <a href="https://bemarketing.com/">BeMarketing</a>!</span></span></span></span></span></p>\n\n<div style="color: rgb(34\, 34\, 34)\; font-family: Arial\, Helvetica\, sans-serif\; font-size: small\; background-color: rgb(255\, 255\, 255)\;"><span style="font-family:arial\;">beMarketing is a full-service marketing agency specializing in helping home services contractors achieve supercharged growth through modern digital strategies. In the rapidly evolving age of AI\, they provide business owners with the proven expertise and tools needed to dominate search results and consistently capture high-quality leads. Partner with their dedicated team to transform your online presence\, ensuring your business stays competitive and drives the predictable\, profitable results you deserve. Brandon Rost is the Founder and CEO of beMarketing\, a full-service advertising agency he launched in 2010. With over 15 years of experience in digital marketing\, Brandon has helped hundreds of businesses grow through effective strategies in paid search\, SEO\, social media\, and web development. Under his leadership\, beMarketing has become one of the region&rsquo\;s fastest-growing agencies and has been recognized nationally by the US Search Awards for digital marketing campaigns for home services. Brandon is known for his &ldquo\;get it done&rdquo\; mentality and has expanded his business with two additional companies: 9-ONE-1 Marketing and Swag It.<br style="box-sizing: border-box\; color: rgb(0\, 0\, 0)\; font-family: Arial\, Helvetica\, sans-serif\; font-size: 12px\;" />\n<br style="box-sizing: border-box\; color: rgb(0\, 0\, 0)\; font-family: Arial\, Helvetica\, sans-serif\; font-size: 12px\;" />\n<span style="color:#000000\;"><span style="font-size:12px\;"><span style="box-sizing: border-box\;"><span style="box-sizing: border-box\;"><span style="box-sizing: border-box\; font-weight: bolder\;">TCACC will plan this&nbsp\;meet up for&nbsp\;</span></span></span><span style="box-sizing: border-box\; font-weight: bolder\;">Renovation &amp\; Construction professionals</span><span style="outline: 0px\; box-sizing: border-box\; font-weight: bolder\;">&nbsp\;monthly on the third Thursday.&nbsp\; &nbsp\;This event is for Members only.&nbsp\;&nbsp\;</span></span></span></span></div>\n
LOCATION:TCACC Conference Room @ The Philadelphia Premium Outlets
UID:e.2183.863913
SEQUENCE:3
DTSTAMP:20260422T183658Z
URL:https://business.tricountyareachamber.com/events/details/executive-exchange-construction-service-providers-02-19-2026-863913
END:VEVENT

END:VCALENDAR
