BEGIN:VCALENDAR
VERSION:2.0
PRODID:-//ChamberMaster//Event Calendar 2.0//EN
METHOD:PUBLISH
X-PUBLISHED-TTL:P3D
REFRESH-INTERVAL:P3D
CALSCALE:GREGORIAN
BEGIN:VEVENT
DTSTART:20260319T130000Z
DTEND:20260319T143000Z
X-MICROSOFT-CDO-ALLDAYEVENT:FALSE
SUMMARY:Executive Exchange: Construction Service Providers
DESCRIPTION:Executive Exchange for Residential and Commercial contractors and improvement consultants. Coffee & breakfast will be provided.\n\n\n\nWhy Attend:  \n\n	Exchange Leads: Discuss new and ongoing projects with other chamber member in the construction industry to find opportunities to collaborate.\n	Build Relationships: Connect with peers in the industry who face similar challenges and opportunities.  Develop partnerships or collaborations on larger projects. Exchange leads or client referrals to grow your business.\n	Stay Updated on Industry Trends: Keep up with emerging technologies\, materials\, and design trends from peers in the industry. \n\nIndustries that would benefit from attending this monthly Roundtable include:\n\n\n	Construction & Skilled Trades:\n\n	\n		General Contracting and Subcontracting (e.g.\, framing\, roofing\, masonry).\n		Specialized trades like Plumbing\, HVAC\, and Electrical.\n	\n	\n	Property Services & Real Estate:\n	\n		Renovation Consulting and Project Management.\n		Residential and Commercial Real Estate Brokerage (for client referrals and reliable vendor lists).\n		Property Management (for maintenance and large-scale upgrades).\n	\n	\n	Design & Architecture:\n	\n		Interior Design and Home Staging.\n		Architectural and Engineering services.\n	\n	\n	Material Supply & Equipment:\n	\n		Building Material Suppliers and Lumber Yards.\n		Heavy Equipment Rental and Tool Sales.\n	\n	\n\n\n\n\nTCACC will plan this meet up for Renovation & Construction professionals monthly on the third Thursday.   This event is for Members only.
X-ALT-DESC;FMTTYPE=text/html:<span style="color: rgb(0\, 0\, 0)\;"><span style="font-size: 16px\;"><span style="box-sizing: border-box\; font-family: Arial\, Helvetica\, sans-serif\;"><span style="box-sizing: border-box\; font-weight: bolder\;">Executive Exchange for Residential and Commercial contractors and improvement consultants.&nbsp\;</span></span></span></span><span style="color: rgb(0\, 0\, 0)\; font-family: Arial\, Helvetica\, sans-serif\; font-size: 16px\; font-weight: 700\;">Coffee &amp\; breakfast will be provided.</span><br style="box-sizing: border-box\;" />\n<br style="box-sizing: border-box\;" />\n<span style="color: rgb(0\, 0\, 0)\;"><span style="font-size: 16px\;"><span style="box-sizing: border-box\; font-family: Arial\, Helvetica\, sans-serif\;">Why Attend:&nbsp\;&nbsp\;</span></span></span>\n<ul>\n	<li><span style="color: rgb(0\, 0\, 0)\;"><span style="font-size: 16px\;"><strong>Exchange Leads</strong>: Discuss new and ongoing projects with other chamber member in the construction industry to find opportunities to collaborate.</span></span></li>\n	<li><span style="color: rgb(0\, 0\, 0)\;"><span style="font-size: 16px\;"><strong>Build Relationships:</strong>&nbsp\;Connect with peers in the industry who face similar challenges and opportunities.&nbsp\;&nbsp\;Develop partnerships or collaborations on larger projects.&nbsp\;Exchange leads or client referrals to grow your business.</span></span></li>\n	<li><span style="color: rgb(0\, 0\, 0)\;"><span style="font-size: 16px\;"><strong>Stay Updated on Industry Trends:</strong>&nbsp\;Keep up with emerging technologies\, materials\, and design trends from peers in the industry.<span style="color: rgb(0\, 0\, 0)\;"><span style="font-size: 16px\;"><span style="outline: 0px\; box-sizing: border-box\; font-weight: bolder\;">&nbsp\;</span></span></span></span></span></li>\n</ul>\n<span style="font-family: arial\;"><strong><span style="color: rgb(0\, 0\, 0)\;"><span style="font-size: 16px\;">Industries that would benefit from attending this monthly Roundtable include:</span></span></strong></span>\n\n<ul>\n	<li><span style="font-size: 12px\;"><span style="font-family: arial\;"><span style="color: rgb(0\, 0\, 0)\;"><b>Construction &amp\; Skilled Trades:</b></span></span></span>\n\n	<ul>\n		<li><span style="font-size: 12px\;"><span style="font-family: arial\;"><span style="color: rgb(0\, 0\, 0)\;"><b>General Contracting</b>&nbsp\;and&nbsp\;<b>Subcontracting</b>&nbsp\;(e.g.\, framing\, roofing\, masonry).</span></span></span></li>\n		<li><span style="font-size: 12px\;"><span style="font-family: arial\;"><span style="color: rgb(0\, 0\, 0)\;">Specialized trades like&nbsp\;<b>Plumbing\, HVAC\, and Electrical</b>.</span></span></span></li>\n	</ul>\n	</li>\n	<li><span style="font-size: 12px\;"><span style="font-family: arial\;"><span style="color: rgb(0\, 0\, 0)\;"><b>Property Services &amp\; Real Estate:</b></span></span></span>\n	<ul>\n		<li><span style="font-size: 12px\;"><span style="font-family: arial\;"><span style="color: rgb(0\, 0\, 0)\;"><b>Renovation Consulting</b>&nbsp\;and&nbsp\;<b>Project Management</b>.</span></span></span></li>\n		<li><span style="font-size: 12px\;"><span style="font-family: arial\;"><span style="color: rgb(0\, 0\, 0)\;"><b>Residential and Commercial Real Estate Brokerage</b>&nbsp\;(for client referrals and reliable vendor lists).</span></span></span></li>\n		<li><span style="font-size: 12px\;"><span style="font-family: arial\;"><span style="color: rgb(0\, 0\, 0)\;"><b>Property Management</b>&nbsp\;(for maintenance and large-scale upgrades).</span></span></span></li>\n	</ul>\n	</li>\n	<li><span style="font-size: 12px\;"><span style="font-family: arial\;"><span style="color: rgb(0\, 0\, 0)\;"><b>Design &amp\; Architecture:</b></span></span></span>\n	<ul>\n		<li><span style="font-size: 12px\;"><span style="font-family: arial\;"><span style="color: rgb(0\, 0\, 0)\;"><b>Interior Design</b>&nbsp\;and&nbsp\;<b>Home Staging</b>.</span></span></span></li>\n		<li><span style="font-size: 12px\;"><span style="font-family: arial\;"><span style="color: rgb(0\, 0\, 0)\;"><b>Architectural</b>&nbsp\;and&nbsp\;<b>Engineering</b>&nbsp\;services.</span></span></span></li>\n	</ul>\n	</li>\n	<li><span style="font-size: 12px\;"><span style="font-family: arial\;"><span style="color: rgb(0\, 0\, 0)\;"><b>Material Supply &amp\; Equipment:</b></span></span></span>\n	<ul>\n		<li><span style="font-size: 12px\;"><span style="font-family: arial\;"><span style="color: rgb(0\, 0\, 0)\;"><b>Building Material Suppliers</b>&nbsp\;and&nbsp\;<b>Lumber Yards</b>.</span></span></span></li>\n		<li><span style="font-size: 12px\;"><span style="font-family: arial\;"><span style="color: rgb(0\, 0\, 0)\;"><b>Heavy Equipment Rental</b>&nbsp\;and&nbsp\;<b>Tool Sales</b>.</span></span></span></li>\n	</ul>\n	</li>\n</ul>\n\n<p><br style="box-sizing: border-box\; color: rgb(0\, 0\, 0)\; font-family: Arial\, Helvetica\, sans-serif\; font-size: 12px\;" />\n<span style="font-family: arial\;"><span style="color: rgb(0\, 0\, 0)\;"><span style="font-size: 12px\;"><span style="box-sizing: border-box\;"><span style="box-sizing: border-box\;"><span style="box-sizing: border-box\; font-weight: bolder\;">TCACC will plan this&nbsp\;meet up for&nbsp\;</span></span></span><span style="box-sizing: border-box\; font-weight: bolder\;">Renovation &amp\; Construction professionals</span><span style="outline: 0px\; box-sizing: border-box\; font-weight: bolder\;">&nbsp\;monthly on the third Thursday.&nbsp\; &nbsp\;This event is for Members only.&nbsp\;&nbsp\;</span></span></span></span></p>\n
LOCATION:TCACC Conference Room @ The Philadelphia Premium Outlets
UID:e.2183.863914
SEQUENCE:3
DTSTAMP:20260422T170356Z
URL:https://business.tricountyareachamber.com/events/details/executive-exchange-construction-service-providers-03-19-2026-863914
END:VEVENT

END:VCALENDAR
