BEGIN:VCALENDAR
VERSION:2.0
PRODID:-//ChamberMaster//Event Calendar 2.0//EN
METHOD:PUBLISH
X-PUBLISHED-TTL:P3D
REFRESH-INTERVAL:P3D
CALSCALE:GREGORIAN
BEGIN:VEVENT
DTSTART:20171022T120000Z
DTEND:20171022T210000Z
X-MICROSOFT-CDO-ALLDAYEVENT:FALSE
SUMMARY:Fabulously Balanced Connections
DESCRIPTION:Connect\, Learn\, and Plan Your Best Year Ever!\n\nJoin Christine Morris and Jennifer Wegman as they bring their most popular content to this full-day workshop! This is a day all about you\, your vision and your business!\n\nWe know how it feels to always be working in your business with no time to work ON your business. We also know the value of taking the time to focus on your business goals and setting a strategy to get you closer to your goals.\n\nOn Sunday\, October 22\, you are going to spend a whole day working ON Your Business and your goals for 2018! \n\n\n	You are going to walk away with a clear direction for where you want your business to be.\n	You'll have an actionable strategy to implement immediately to realize your dreams.\n	You will connect and mastermind with like-minded women who will support you along the way.\n\n\nImagine a full day with like-minded women\, some of them your ideal clients\, some referral partners\, all of them bringing experience and knowledge to support you and your vision!
X-ALT-DESC;FMTTYPE=text/html:<h3 style="text-align:center">Connect\, Learn\, and Plan Your Best Year Ever!</h3>\n\n<p>Join Christine Morris and Jennifer Wegman as they bring their most popular content to this full-day workshop! This is a day all about you\, your vision and your business!</p>\n\n<p>We know how it feels to always be working in your business with no time to work ON your business. We also know the value of taking the time to focus on your business goals and setting a strategy to get you closer to your goals.</p>\n\n<p style="text-align:center"><strong>On Sunday\, October 22\, you are going to spend a whole day working ON Your Business and your goals for 2018!&nbsp\;</strong></p>\n\n<ul>\n	<li style="text-align:left">You are going to walk away with a clear direction for where you want your business to be.</li>\n	<li style="text-align:left">You&rsquo\;ll have an actionable strategy to implement immediately to realize your dreams.</li>\n	<li style="text-align:left">You will connect and mastermind with like-minded women who will support you along the way.</li>\n</ul>\n\n<p>Imagine a full day with like-minded women\, some of them your ideal clients\, some referral partners\, all of them bringing experience and knowledge to support you and your vision!</p>\n
LOCATION:Gatsby's at Sunnybrook Ballroom
UID:e.2183.848795
SEQUENCE:3
DTSTAMP:20260421T042525Z
URL:https://business.tricountyareachamber.com/events/details/fabulously-balanced-connections-848795
END:VEVENT

END:VCALENDAR
