BEGIN:VCALENDAR
VERSION:2.0
PRODID:-//ChamberMaster//Event Calendar 2.0//EN
METHOD:PUBLISH
X-PUBLISHED-TTL:P3D
REFRESH-INTERVAL:P3D
CALSCALE:GREGORIAN
BEGIN:VEVENT
DTSTART;VALUE=DATE:20211013
DTEND;VALUE=DATE:20211014
TRANSP:TRANSPARENT
X-MICROSOFT-CDO-ALLDAYEVENT:TRUE
SUMMARY:Fall 2021 Pottstown Rotary Club B2B mixer
DESCRIPTION:
X-ALT-DESC;FMTTYPE=text/html:
LOCATION:Sunnybrook Ballroom
UID:e.2183.856799
SEQUENCE:3
DTSTAMP:20260422T084232Z
URL:https://business.tricountyareachamber.com/events/details/fall-2021-pottstown-rotary-club-b2b-mixer-856799
END:VEVENT

END:VCALENDAR
