BEGIN:VCALENDAR
VERSION:2.0
PRODID:-//ChamberMaster//Event Calendar 2.0//EN
METHOD:PUBLISH
X-PUBLISHED-TTL:P3D
REFRESH-INTERVAL:P3D
CALSCALE:GREGORIAN
BEGIN:VEVENT
DTSTART:20171111T003000Z
DTEND:20171111T013000Z
X-MICROSOFT-CDO-ALLDAYEVENT:FALSE
SUMMARY:Fall Concert Band
DESCRIPTION:Dr. Holly Hubbs returns to direct the Ursinus College Band with a program of traditional and new works for wind ensemble.  The concert will offer a musical trip through time\, with offerings from each musical style period from the Middle Ages to the 21st century. Included on the program will be "Divinum Mysterium" (based on a 13th-century plainchant)\, Mozart's "Marriage of Figaro" overture\, and a suite from Lin-Manuel Miranda's hit musical\, "Hamilton."
X-ALT-DESC;FMTTYPE=text/html:<span style="color:rgb(35\, 31\, 32)\; font-family:helveticaneuew01-45ligh\,helvetica neue\,helvetica\,sans-serif\; font-size:18px">Dr. Holly Hubbs returns to direct the Ursinus College Band with a program of traditional and new works for wind ensemble.&nbsp\; The concert will offer a musical trip through time\, with offerings from each musical style period from the Middle Ages to the </span><span style="color:rgb(35\, 31\, 32)\; font-family:helveticaneuew01-45ligh\,helvetica neue\,helvetica\,sans-serif\; font-size:18px">21</span><span style="color:rgb(35\, 31\, 32)\; font-family:helveticaneuew01-45ligh\,helvetica neue\,helvetica\,sans-serif\; font-size:13.5px">st</span><span style="color:rgb(35\, 31\, 32)\; font-family:helveticaneuew01-45ligh\,helvetica neue\,helvetica\,sans-serif\; font-size:18px">&nbsp\;century. Included on the program will be &ldquo\;Divinum Mysterium&rdquo\; (based on a </span><span style="color:rgb(35\, 31\, 32)\; font-family:helveticaneuew01-45ligh\,helvetica neue\,helvetica\,sans-serif\; font-size:18px">13</span><span style="color:rgb(35\, 31\, 32)\; font-family:helveticaneuew01-45ligh\,helvetica neue\,helvetica\,sans-serif\; font-size:13.5px">th</span><span style="color:rgb(35\, 31\, 32)\; font-family:helveticaneuew01-45ligh\,helvetica neue\,helvetica\,sans-serif\; font-size:18px">-century</span><span style="color:rgb(35\, 31\, 32)\; font-family:helveticaneuew01-45ligh\,helvetica neue\,helvetica\,sans-serif\; font-size:18px"> plainchant)\, Mozart&rsquo\;s &ldquo\;Marriage of Figaro&rdquo\; overture\, and a suite from Lin-Manuel Miranda&rsquo\;s hit musical\, &ldquo\;Hamilton.&rdquo\;</span>
LOCATION:Ursinus College (601 E Main St\, Collegeville\, PA 19426) Lenfest Theater Kaleidoscope Performing Arts Center
UID:e.2183.848876
SEQUENCE:3
DTSTAMP:20260421T060757Z
URL:https://business.tricountyareachamber.com/events/details/fall-concert-band-848876
END:VEVENT

END:VCALENDAR
