BEGIN:VCALENDAR
VERSION:2.0
PRODID:-//ChamberMaster//Event Calendar 2.0//EN
METHOD:PUBLISH
X-PUBLISHED-TTL:P3D
REFRESH-INTERVAL:P3D
CALSCALE:GREGORIAN
BEGIN:VEVENT
DTSTART:20171118T150000Z
DTEND:20171119T220000Z
X-MICROSOFT-CDO-ALLDAYEVENT:FALSE
SUMMARY:Fall into Winter Tour
DESCRIPTION:This self-guided tour\, originally started by Linda Rohrbach-Austerberry several years ago\, has been expanded to the spaces of well-known local artists in Boyertown\, Oley\, Barto\, and the surrounding areas\, including a scratch baker and nano-brewery\, in this annual driving tour. Finish your holiday shopping early with everything from pottery\, glass\, metalwork\, fibers and jewelry to bakery items cheeses and artisan brews.
X-ALT-DESC;FMTTYPE=text/html:This self-guided tour\, originally started by Linda Rohrbach-Austerberry several years ago\, has been expanded to the spaces of well-known local artists in Boyertown\, Oley\, Barto\, and the surrounding areas\, including a scratch baker and nano-brewery\, in this annual driving tour. Finish your holiday shopping early with everything from pottery\, glass\, metalwork\, fibers and jewelry to bakery items cheeses and artisan brews.
LOCATION:Various Locations in Barto\, Boyertown and Oley
UID:e.2183.849111
SEQUENCE:3
DTSTAMP:20260421T080010Z
URL:https://business.tricountyareachamber.com/events/details/fall-into-winter-tour-849111
END:VEVENT

END:VCALENDAR
