BEGIN:VCALENDAR
VERSION:2.0
PRODID:-//ChamberMaster//Event Calendar 2.0//EN
METHOD:PUBLISH
X-PUBLISHED-TTL:P3D
REFRESH-INTERVAL:P3D
CALSCALE:GREGORIAN
BEGIN:VEVENT
DTSTART:20171201T210000Z
DTEND:20171202T020000Z
X-MICROSOFT-CDO-ALLDAYEVENT:FALSE
SUMMARY:Festival of Trees
DESCRIPTION:Enjoy a stunning array of Christmas trees decorated by the community! Purchase chances to win a decorated tree. Delight in the beautiful sounds of the season! Enjoy delicious refreshments. Visit our Christmas Giving Program Angel Tree! Doors open at 4:00 PM. Drawing of all winning tickets is at 9:00 PM. Winners need not be present. Winners will be contacted via phone on Friday night. This is also a stop on the Holiday House Tour!
X-ALT-DESC;FMTTYPE=text/html:Enjoy a stunning array of Christmas trees decorated by the community! Purchase chances to win a decorated tree. Delight in the beautiful sounds of the season! Enjoy delicious refreshments. Visit our Christmas Giving Program Angel Tree! Doors open at 4:00 PM. Drawing of all winning tickets is at 9:00 PM. Winners need not be present. Winners will be contacted via phone on Friday night. This is also a stop on the Holiday House Tour!
LOCATION:200 West Spring Street The Center at Spring Street Entrance Boyertown\, PA 19512
UID:e.2183.848828
SEQUENCE:3
DTSTAMP:20260421T080306Z
URL:https://business.tricountyareachamber.com/events/details/festival-of-trees-848828
END:VEVENT

END:VCALENDAR
