BEGIN:VCALENDAR
VERSION:2.0
PRODID:-//ChamberMaster//Event Calendar 2.0//EN
METHOD:PUBLISH
X-PUBLISHED-TTL:P3D
REFRESH-INTERVAL:P3D
CALSCALE:GREGORIAN
BEGIN:VEVENT
DTSTART:20170624T200000Z
DTEND:20170624T230000Z
X-MICROSOFT-CDO-ALLDAYEVENT:FALSE
SUMMARY:"Field Jam"
DESCRIPTION:Music is better with nature as the backdrop! This June\, Natural Lands Trust invites visitors to get their groove on during their new summer music event\, Field Jam. \n\n\n	Live music by Philadelphia local band Black Horse Motel\, with rich vocal harmonies and a lively blend of guitars\, strings\, and drums influenced by rock\, country\, and Americana roots.\n	Craft beer donated by Victory Brewing Company\n	Fabulous food-truck fare \n\nThe setting for Field Jam couldn't be more picturesque. Natural Lands Trust's Gwynedd Wildlife Preserve is a 279-acre oasis of nature nestled among the rapidly developing suburbs of Blue Bell and North Wales. As summer settles in\, butterflies and bluebirds flock to the wildflower-filled meadows.\n\n\n\nTickets can be purchased online (natlands.org/fieldjam) or by phone at 610-353-5587\, ext. 243. Advance ticket sales only. Event is for adults age 21 and over.
X-ALT-DESC;FMTTYPE=text/html:<span style="font-size:14px\;"><span style="font-family:arial\,sans-serif\;">Music is better with nature as the backdrop! This June\, Natural Lands Trust invites visitors to get their groove on during their new summer music event\, Field Jam. </span></span>\n\n<ul style="list-style-type:circle\;">\n	<li><span style="font-size:14px\;"><span style="font-family:arial\,sans-serif\;">Live music by Philadelphia local band </span><a href="http://www.blackhorsemotel.net/"><span style="font-family:arial\,sans-serif\;">Black Horse Motel</span></a><span style="font-family:arial\,sans-serif\;">\, <span style="background-image:initial\;background-position:initial\;background-size:initial\;background-repeat:initial\;background-attachment:initial\;background-origin:initial\;background-clip:initial\;"><span style="color:#212121\;">with </span></span></span><span style="background-image:initial\;background-position:initial\;background-size:initial\;background-repeat:initial\;background-attachment:initial\;background-origin:initial\;background-clip:initial\;"><span style="color:#212121\;">rich vocal harmonies and a lively blend of guitars\, strings\, and drums influenced by rock\, country\, and Americana roots.</span></span></span></li>\n	<li><span style="font-size:14px\;"><span style="font-family:arial\,sans-serif\;">Craft beer donated by </span><a href="http://www.victorybeer.com/" target="_blank"><span style="text-decoration-line:none\;"><span style="color:windowtext\;"><span style="font-family:arial\,sans-serif\;">Victory Brewing Company</span></span></span></a></span></li>\n	<li><span style="font-size:14px\;"><span style="font-family:arial\,sans-serif\;">Fabulous food-truck fare </span></span></li>\n</ul>\n<span style="font-size:14px\;"><span style="font-family:arial\,sans-serif\;">The setting for Field Jam couldn&rsquo\;t be more picturesque. Natural Lands Trust&rsquo\;s Gwynedd Wildlife Preserve is a 279-acre oasis of nature nestled among the rapidly developing suburbs of Blue Bell and North Wales. As summer settles in\, butterflies and bluebirds flock to the wildflower-filled meadows.<br />\n<br />\nTickets can be purchased online (</span><span style="font-family:times new roman\,serif\;"><a href="https://natlands.org/event/fieldjam2017/"><span style="font-family:arial\,sans-serif\;">natlands.org/fieldjam</span></a></span><span style="font-family:arial\,sans-serif\;">) or by phone at 610-353-5587\, ext. 243. Advance ticket sales only. </span></span><span style="font-family:arial\,sans-serif\;"><span style="font-size:14px\;">Event is for adults age 21 and over.</span></span>
LOCATION:Natural Lands Trust's Gwynedd Wildlife Preserve 640 Swedesford Rd. North Wales\, PA 19454
UID:e.2183.847644
SEQUENCE:3
DTSTAMP:20260420T213145Z
URL:https://business.tricountyareachamber.com/events/details/field-jam-847644
END:VEVENT

END:VCALENDAR
