BEGIN:VCALENDAR
VERSION:2.0
PRODID:-//ChamberMaster//Event Calendar 2.0//EN
METHOD:PUBLISH
X-PUBLISHED-TTL:P3D
REFRESH-INTERVAL:P3D
CALSCALE:GREGORIAN
BEGIN:VEVENT
DTSTART:20170519T123000Z
DTEND:20170519T140000Z
X-MICROSOFT-CDO-ALLDAYEVENT:FALSE
SUMMARY:"Finding a Social Media Strategy that Works for Your Business" Workshop
DESCRIPTION:This fifth in a series of "Refresh Fridays." Social Media for business is not a one-size-fits-all strategy. Taylor Tropea\, Marketing & Social Media Associate\, of the award winning Valley Forge Tourism & Convention Board social media team\, will help you find a strategy that works for you and your business goals.
X-ALT-DESC;FMTTYPE=text/html:<span style="font-family:times new roman\,serif\;"><span style="font-size:12.0pt\;">This fifth in a series of <strong>&ldquo\;Refresh Fridays</strong>.&quot\;&nbsp\;</span></span><strong><span style="font-family:times new roman\,serif\;"><span style="font-size:12.0pt\;">Social Media</span></span></strong><span style="font-family:times new roman\,serif\;"><span style="font-size:12.0pt\;"> for business is not a one-size-fits-all strategy. <strong>Taylor Tropea</strong>\, Marketing &amp\; Social Media Associate\, of the award winning Valley Forge Tourism &amp\; Convention Board social media team\, will help you find a strategy that works for you and your business goals.</span></span>
LOCATION:Chamber Office 152 E. High St.\, Suite 360 Pottstown\, PA 19464
UID:e.2183.847477
SEQUENCE:3
DTSTAMP:20260420T200444Z
URL:https://business.tricountyareachamber.com/events/details/finding-a-social-media-strategy-that-works-for-your-business-workshop-847477
END:VEVENT

END:VCALENDAR
