BEGIN:VCALENDAR
VERSION:2.0
PRODID:-//ChamberMaster//Event Calendar 2.0//EN
METHOD:PUBLISH
X-PUBLISHED-TTL:P3D
REFRESH-INTERVAL:P3D
CALSCALE:GREGORIAN
BEGIN:VEVENT
DTSTART:20170715T000000Z
DTEND:20170715T010000Z
X-MICROSOFT-CDO-ALLDAYEVENT:FALSE
SUMMARY:Fireflies!
DESCRIPTION:Discover the amazing lives of "lightning bugs" as we play a game to uncover the mystery of how and why fireflies light up\, and catch and study the insects themselves! This program is available on Friday\, July 7 and Friday\, July 14\; please choose a date when registering.\n\nRefreshments provided. Bring a jar for catch and release of fireflies\, and bug spray. Appropriate for ages 5 and up with adult.\n\n \n\nGVWA Member fees: $7 per child / $3 per adult\n\nNonmember fees: $9 per child / $5 per adult\n\nAdvanced registration required until all spaces are filled: contact 610-469-8646 or dwhite@greenvalleys.org.\n\nSponsored by WSFS Bank
X-ALT-DESC;FMTTYPE=text/html:<p style="margin: 0px 0px 10px\; font-size: 16px\; line-height: 1.7\; font-family: Neuton\; background-color: rgb(250\, 250\, 250)\;">Discover the amazing lives of &ldquo\;lightning bugs&rdquo\; as we play a game to uncover the mystery of how and why fireflies light up\, and catch and study the insects themselves!&nbsp\;<em>This program is available on Friday\, July 7&nbsp\;<span style="font-weight: 700\;">and</span>&nbsp\;Friday\, July 14\; please choose a date when registering.</em></p>\n\n<p style="margin: 0px 0px 10px\; font-size: 16px\; line-height: 1.7\; font-family: Neuton\; background-color: rgb(250\, 250\, 250)\;">Refreshments provided. Bring a jar for catch and release of fireflies\, and bug spray. Appropriate for ages 5 and up with adult.</p>\n\n<p style="margin: 0px 0px 10px\; font-size: 16px\; line-height: 1.7\; font-family: Neuton\; background-color: rgb(250\, 250\, 250)\;">&nbsp\;</p>\n\n<p style="margin: 0px 0px 10px\; font-size: 16px\; line-height: 1.7\; font-family: Neuton\; background-color: rgb(250\, 250\, 250)\;"><span style="font-weight: 700\;"><a href="https://www.greenvalleys.org/support/" rel="noopener noreferrer" style="color: rgb(0\, 136\, 204)\; text-decoration-line: none\; transition-property: border\, background\, color\; transition-duration: 0.15s\; transition-timing-function: ease-in-out\;" target="_blank">GVWA Member</a>&nbsp\;fees: $7 per child / $3 per adult</span></p>\n\n<p style="margin: 0px 0px 10px\; font-size: 16px\; line-height: 1.7\; font-family: Neuton\; background-color: rgb(250\, 250\, 250)\;"><span style="font-weight: 700\;">Nonmember fees: $9 per child / $5 per adult</span></p>\n\n<p style="margin: 0px 0px 10px\; font-size: 16px\; line-height: 1.7\; font-family: Neuton\; background-color: rgb(250\, 250\, 250)\;"><span style="font-weight: 700\;">Advanced registration required until all spaces are filled: contact 610-469-8646 or dwhite@greenvalleys.org.</span></p>\n\n<h4 style="text-shadow: rgb(255\, 255\, 255) 0px 1px 0px\; margin: 11px 0px\; font-family: Neuton\; font-size: 18px\; line-height: 23px\; background-color: rgb(250\, 250\, 250)\;"><em>Sponsored by&nbsp\;<a href="https://www.wsfsbank.com/Personal" rel="noopener noreferrer" style="color: rgb(0\, 136\, 204)\; text-decoration-line: none\; font-size: 16px\; transition-property: border\, background\, color\; transition-duration: 0.15s\; transition-timing-function: ease-in-out\;" target="_blank">WSFS Bank</a></em></h4>\n
LOCATION:Welkinweir Education Barn 1368 Prizer Road Pottstown\, PA 19465
UID:e.2183.847689
SEQUENCE:3
DTSTAMP:20260421T010327Z
URL:https://business.tricountyareachamber.com/events/details/fireflies-847689
END:VEVENT

END:VCALENDAR
