BEGIN:VCALENDAR
VERSION:2.0
PRODID:-//ChamberMaster//Event Calendar 2.0//EN
METHOD:PUBLISH
X-PUBLISHED-TTL:P3D
REFRESH-INTERVAL:P3D
CALSCALE:GREGORIAN
BEGIN:VEVENT
DTSTART:20170406T213000Z
DTEND:20170406T233000Z
X-MICROSOFT-CDO-ALLDAYEVENT:FALSE
SUMMARY:First Time Home Owners Seminar
DESCRIPTION:First Time Home Owners Seminar\n\nCome visit us and let us walk you through the steps of first time home ownership!
X-ALT-DESC;FMTTYPE=text/html:<span style="font-size:18px\;"><strong><span style="font-family:georgia\,serif\;">First Time Home Owners Seminar</span></strong></span><br />\n<span style="font-family:georgia\,serif\;"><span style="font-size:12pt\;">Come visit us and let us walk you through the steps of first time home ownership!</span></span>
LOCATION:Malvern Federal Lionville Branch 537 West Uwchlan Avenue Downingtown\, PA 19335
UID:e.2183.847610
SEQUENCE:3
DTSTAMP:20260420T181407Z
URL:https://business.tricountyareachamber.com/events/details/first-time-home-owners-seminar-847610
END:VEVENT

END:VCALENDAR
