BEGIN:VCALENDAR
VERSION:2.0
PRODID:-//ChamberMaster//Event Calendar 2.0//EN
METHOD:PUBLISH
X-PUBLISHED-TTL:P3D
REFRESH-INTERVAL:P3D
CALSCALE:GREGORIAN
BEGIN:VEVENT
DTSTART:20220409T140000Z
DTEND:20220409T150000Z
X-MICROSOFT-CDO-ALLDAYEVENT:FALSE
SUMMARY:First-Time Homebuyer Webinar
DESCRIPTION:Learn about special programs for first-time homebuyers\; including: zero-down payment options\, grant availability\, and pre-qualification criteria. We will be glad to answer any mortgage questions you may have. Presenters: Vicki M Ide - Vice President-Residential Mortgage Lending Manager\, NMLS #926184 Matt Sullivan - Residential Mortgage Originator\, NMLS #457897 Michael Parelli - Branch Manager\, NMLS #191873 Michele Pedraza - Residential Mortgage Sales Associate\, NMLS #1512262
X-ALT-DESC;FMTTYPE=text/html:Learn about special programs for first-time homebuyers\; including: zero-down payment options\, grant availability\, and pre-qualification criteria. We will be glad to answer any mortgage questions you may have. Presenters: Vicki M Ide - Vice President-Residential Mortgage Lending Manager\, NMLS #926184 Matt Sullivan - Residential Mortgage Originator\, NMLS #457897 Michael Parelli - Branch Manager\, NMLS #191873 Michele Pedraza - Residential Mortgage Sales Associate\, NMLS #1512262
LOCATION:Online
UID:e.2183.857655
SEQUENCE:3
DTSTAMP:20260424T185240Z
URL:https://business.tricountyareachamber.com/events/details/first-time-homebuyer-webinar-04-09-2022-857655
END:VEVENT

END:VCALENDAR
