BEGIN:VCALENDAR
VERSION:2.0
PRODID:-//ChamberMaster//Event Calendar 2.0//EN
METHOD:PUBLISH
X-PUBLISHED-TTL:P3D
REFRESH-INTERVAL:P3D
CALSCALE:GREGORIAN
BEGIN:VEVENT
DTSTART:20171110T170000Z
DTEND:20171110T190000Z
X-MICROSOFT-CDO-ALLDAYEVENT:FALSE
SUMMARY:Food Truck Friday
DESCRIPTION:Translogistics presents:\n\nFood Truck Friday - Fundraiser on November 10\n\nBenefiting Truckers Against Trafficking\n\n\nFood truck catering by the Lancaster Burger Co. with the freshest burgers\, fries\, milkshakes and more along with raffle prizes\, music and crafts! \n\n\n\nStop by to make a donation!
X-ALT-DESC;FMTTYPE=text/html:<div style="text-align: center\;"><span style="font-size:18px\;"><strong><em>Translogistics presents:</em><br />\nFood Truck Friday - Fundraiser on November 10<br />\nBenefiting Truckers Against Trafficking</strong></span></div>\n<br />\nFood truck catering by the Lancaster Burger Co. with the freshest burgers\, fries\, milkshakes and more along with raffle prizes\, music and crafts!&nbsp\;<br />\n<br />\nStop by to make a donation!
LOCATION:321 N. Furnace Road (Brooke's Parking Lot) Birdsboro\, PA 19508
UID:e.2183.848887
SEQUENCE:3
DTSTAMP:20260421T061108Z
URL:https://business.tricountyareachamber.com/events/details/food-truck-friday-848887
END:VEVENT

END:VCALENDAR
