BEGIN:VCALENDAR
VERSION:2.0
PRODID:-//ChamberMaster//Event Calendar 2.0//EN
METHOD:PUBLISH
X-PUBLISHED-TTL:P3D
REFRESH-INTERVAL:P3D
CALSCALE:GREGORIAN
BEGIN:VEVENT
DTSTART;VALUE=DATE:20171009
DTEND;VALUE=DATE:20171010
TRANSP:TRANSPARENT
X-MICROSOFT-CDO-ALLDAYEVENT:TRUE
SUMMARY:Foundation for Boyertown Education 2nd Annual Golf Outing
DESCRIPTION:The Foundation will host is annual Golf Outing at Twin Ponds Golf Club. Corporate\, Four-some and Individual Packages are available. Shot gun start at 9am. Registration begins at 8:30am. Steak Lunch at 1:30pm with awards ceremony.
X-ALT-DESC;FMTTYPE=text/html:The Foundation will host is annual Golf Outing at Twin Ponds Golf Club. Corporate\, Four-some and Individual Packages are available. Shot gun start at 9am. Registration begins at 8:30am. Steak Lunch at 1:30pm with awards ceremony.
LOCATION:Twin Ponds Golf Club 70 Gilbertsville Rd. Gilbertsville\, PA 19525
UID:e.2183.847613
SEQUENCE:3
DTSTAMP:20260421T043510Z
URL:https://business.tricountyareachamber.com/events/details/foundation-for-boyertown-education-2nd-annual-golf-outing-847613
END:VEVENT

END:VCALENDAR
