BEGIN:VCALENDAR
VERSION:2.0
PRODID:-//ChamberMaster//Event Calendar 2.0//EN
METHOD:PUBLISH
X-PUBLISHED-TTL:P3D
REFRESH-INTERVAL:P3D
CALSCALE:GREGORIAN
BEGIN:VEVENT
DTSTART:20180303T170000Z
DTEND:20180303T210000Z
X-MICROSOFT-CDO-ALLDAYEVENT:FALSE
SUMMARY:Foundation for Boyertown Education to Host The Harlem Wizards
DESCRIPTION:On Saturday\, March 3 the Foundation All Stars will take on the Harlem Wizards in a spectacular show of Hoops\, Ooops and Ally-Ooops.  Doors open at noon\, gametime is at 1pm.  This fun and entertaining game of basketball will sure to excite all ages.
X-ALT-DESC;FMTTYPE=text/html:On Saturday\, March 3 the Foundation All Stars will take on the Harlem Wizards in a spectacular show of Hoops\, Ooops and Ally-Ooops.&nbsp\; Doors open at noon\, gametime is at 1pm.&nbsp\; This fun and entertaining game of basketball will sure to excite all ages.&nbsp\;
LOCATION:Boyertown Area Senior High Gymnasium\, 120 North Monroe Street Boyertown\, PA 19512
UID:e.2183.849142
SEQUENCE:3
DTSTAMP:20260421T124103Z
URL:https://business.tricountyareachamber.com/events/details/foundation-for-boyertown-education-to-host-the-harlem-wizards-849142
END:VEVENT

END:VCALENDAR
