BEGIN:VCALENDAR
VERSION:2.0
PRODID:-//ChamberMaster//Event Calendar 2.0//EN
METHOD:PUBLISH
X-PUBLISHED-TTL:P3D
REFRESH-INTERVAL:P3D
CALSCALE:GREGORIAN
BEGIN:VEVENT
DTSTART:20220111T233000Z
DTEND:20220112T003000Z
X-MICROSOFT-CDO-ALLDAYEVENT:FALSE
SUMMARY:Free dementia support series: The Gift of Music
DESCRIPTION:Keystone Villa at Douglassville\, Personal Care and Memory Care\, is hosting a free\, three-part dementia support series held at the senior living community\, located at 1152 Ben Franklin Highway E.\, on Tuesday\, Jan. 11\, from 6:30-7:30 p.m. Music can elicit emotions and memories that reconnect a person's past and promote in-the-moment connections with caregivers and others with dementia. Learn more about "The Gift of Music" from guest presenter Lori Dierolf from Open Door Training and Development. RSVPs appreciated. To reserve your spot\, please call Sue O. at 610-385-5137.
X-ALT-DESC;FMTTYPE=text/html:Keystone Villa at Douglassville\, Personal Care and Memory Care\, is hosting a free\, three-part dementia support series held at the senior living community\, located at 1152 Ben Franklin Highway E.\, on Tuesday\, Jan. 11\, from 6:30-7:30 p.m. Music can elicit emotions and memories that reconnect a person&rsquo\;s past and promote in-the-moment connections with caregivers and others with dementia. Learn more about &ldquo\;The Gift of Music&rdquo\; from guest presenter Lori Dierolf from Open Door Training and Development. RSVPs appreciated. To reserve your spot\, please call Sue O. at 610-385-5137.
LOCATION:Keystone Villa at Douglassville 1152 Ben Franklin Highway E. Douglassville\, PA
UID:e.2183.856929
SEQUENCE:3
DTSTAMP:20260424T101144Z
URL:https://business.tricountyareachamber.com/events/details/free-dementia-support-series-the-gift-of-music-856929
END:VEVENT

END:VCALENDAR
