BEGIN:VCALENDAR
VERSION:2.0
PRODID:-//ChamberMaster//Event Calendar 2.0//EN
METHOD:PUBLISH
X-PUBLISHED-TTL:P3D
REFRESH-INTERVAL:P3D
CALSCALE:GREGORIAN
BEGIN:VEVENT
DTSTART:20180319T140000Z
DTEND:20180320T024500Z
X-MICROSOFT-CDO-ALLDAYEVENT:FALSE
SUMMARY:FREE Family Music for Toddlers Demo Class
DESCRIPTION:These weekly classes are action-filled for toddlers (ages 15-months through 3 years of age)   full of energy\, often on the move\, always exploring and learning   and their parents. Together you'll sing\, chant\, move\, dance\, listen\, and play simple instruments\, all activities that bridge the natural connection between music and movement through four wonder-filled semesters. Each lesson features movement activities for coordination\, body awareness and control\, exploration of space\, and instruments such as rhythm sticks\, jingles\, rattles\, drums\, and resonator bars.
X-ALT-DESC;FMTTYPE=text/html:These weekly classes are action-filled for toddlers (ages 15-months through 3 years of age) &ndash\; full of energy\, often on the move\, always exploring and learning &ndash\; and their parents. Together you&rsquo\;ll sing\, chant\, move\, dance\, listen\, and play simple instruments\, all activities that bridge the natural connection between music and movement through four wonder-filled semesters. Each lesson features movement activities for coordination\, body awareness and control\, exploration of space\, and instruments such as rhythm sticks\, jingles\, rattles\, drums\, and resonator bars.
LOCATION:Community Music School 775 W Main Street Trappe\, PA 19426
UID:e.2183.850231
SEQUENCE:3
DTSTAMP:20260421T143125Z
URL:https://business.tricountyareachamber.com/events/details/free-family-music-for-toddlers-demo-class-850231
END:VEVENT

END:VCALENDAR
