BEGIN:VCALENDAR
VERSION:2.0
PRODID:-//ChamberMaster//Event Calendar 2.0//EN
METHOD:PUBLISH
X-PUBLISHED-TTL:P3D
REFRESH-INTERVAL:P3D
CALSCALE:GREGORIAN
BEGIN:VEVENT
DTSTART:20170829T140000Z
DTEND:20170829T160000Z
X-MICROSOFT-CDO-ALLDAYEVENT:FALSE
SUMMARY:Free Musikgarten Demo for PRESCHOOLERS
DESCRIPTION:Come Try It Out! Your Children Will Love It! In these classes we will delight in the endless energy of your children\, their joy in bouncing\, rocking\, and dancing with you\, and in seeing them develop in this wonderful\, musical environment! Family Music for Toddlers 15mo-3yrs Demo Classes: 10-10:45am
X-ALT-DESC;FMTTYPE=text/html:Come Try It Out! Your Children Will Love It! In these classes we will delight in the endless energy of your children\, their joy in bouncing\, rocking\, and dancing with you\, and in seeing them develop in this wonderful\, musical environment! Family Music for Toddlers 15mo-3yrs Demo Classes: 10-10:45am
LOCATION:Community Music School 775 W. Main St. Trappe\, PA 19426
UID:e.2183.848755
SEQUENCE:3
DTSTAMP:20260421T013300Z
URL:https://business.tricountyareachamber.com/events/details/free-musikgarten-demo-for-preschoolers-848755
END:VEVENT

END:VCALENDAR
