BEGIN:VCALENDAR
VERSION:2.0
PRODID:-//ChamberMaster//Event Calendar 2.0//EN
METHOD:PUBLISH
X-PUBLISHED-TTL:P3D
REFRESH-INTERVAL:P3D
CALSCALE:GREGORIAN
BEGIN:VEVENT
DTSTART:20220402T130000Z
DTEND:20220402T160000Z
X-MICROSOFT-CDO-ALLDAYEVENT:FALSE
SUMMARY:Free Paper Shredding Event
DESCRIPTION:State Rep Tracy Pennycuick is hosting a free paper shredding event on Saturday\, April 2\, from 9 a.m. to noon\, (or until the truck is full) at Perkiomen Valley Middle School West\, 220 Big Road in Zieglerville.\n\n\n\nThe event\, which will feature an on-site industrial paper shredder from Wiggins Shredding\, will provide the opportunity for households to shred up to two packing boxes of materials. Cardboard boxes and plastic bags will be returned\; paper bags can be shredded along with the other material.\n\n\n\nThis is a great opportunity for residents to get rid of large amounts of unwanted documents containing personal information that could be used to steal their identity or cause other harm.\n\n\n\nThe event will be held rain or shine. Any questions\, please contact the office at 610-323-3299 in Gilbertsville or 215-256-6030 in Harleysville.
X-ALT-DESC;FMTTYPE=text/html:<span style="font-family:calibri\,sans-serif\;"><span style="font-size:11.0pt\;">State Rep Tracy Pennycuick is hosting a free paper shredding event on Saturday\, April 2\, from 9 a.m. to noon\, (or until the truck is full) at Perkiomen Valley Middle School West\, <a href="http://links.pahousenews.com/q/LleuuFz_7fLfwE0XK9jb0TSOZI73flMLbRZWZcOJbWVsaXNzYUB0cmljb3VudHlhcmVhY2hhbWJlci5jb23DiAgYKICoXDfJ62jeTK8sl3nYmEjw" target="_blank">220 Big Road in Zieglerville</a>.<br />\n<br />\nThe event\, which will feature an on-site industrial paper shredder from Wiggins Shredding\, will provide the opportunity for households to shred up to two packing boxes of materials. Cardboard boxes and plastic bags will be returned\; paper bags can be shredded along with the other material.<br />\n<br />\nThis is a great opportunity for residents to get rid of large amounts of unwanted documents containing personal information that could be used to steal their identity or cause other harm.<br />\n<br />\nThe event will be held rain or shine. Any questions\, please contact the office at 610-323-3299 in Gilbertsville or 215-256-6030 in Harleysville.</span></span>
LOCATION:Perkiomen Valley Middle School West 220 Big Road in Zieglerville.
UID:e.2183.857618
SEQUENCE:3
DTSTAMP:20260424T185143Z
URL:https://business.tricountyareachamber.com/events/details/free-paper-shredding-event-857618
END:VEVENT

END:VCALENDAR
