BEGIN:VCALENDAR
VERSION:2.0
PRODID:-//ChamberMaster//Event Calendar 2.0//EN
METHOD:PUBLISH
X-PUBLISHED-TTL:P3D
REFRESH-INTERVAL:P3D
CALSCALE:GREGORIAN
BEGIN:VEVENT
DTSTART:20180323T120000Z
DTEND:20180323T140000Z
X-MICROSOFT-CDO-ALLDAYEVENT:FALSE
SUMMARY:Free Seminar: The Conversation of a Lifetime - How to Talk to a Loved One About Creating a Legacy
DESCRIPTION:While it may not be easy to talk to your loved ones about their final wishes\, it's not a conversation you should ignore. To learn how to start this important dialogue\, come to Montgomery County Community College Foundation's Planned Giving Advisory Council's free seminar\, "The Conversation of a Lifetime: How to Talk to a Loved One About Creating a Legacy\," on Friday\, March 23\, from 8 to 10 a.m. in College Hall\, Room 151\, Central Campus\, 340 DeKalb Pike\, Blue Bell. Breakfast will be served.\n\nThe seminar features Peter "Skip" Urban\, the president and supervisor of Urban Funeral Home in Ambler\, Pa.\, and Mary E. Podlogar\, Esquire\, of Montco Elder Law  LLP in Ambler\, Pa. They will provide important tips on how to start the conversation about your loved ones' final wishes\, including which questions to ask\, how to create a legacy and how to make plans for memorialization.\n\nTo attend\, RSVP by emailing Foundation@mc3.edu or calling 215-641-6324 by March 19. Please feel free to submit questions when you RSVP. Seating is limited\, and parking is free.
X-ALT-DESC;FMTTYPE=text/html:<p>While it may not be easy to talk to your loved ones about their final wishes\, it&rsquo\;s not a conversation you should ignore. To learn how to start this important dialogue\, come to <a href="http://www.mc3.edu/alumni-donors/foundation">Montgomery County Community College Foundation&rsquo\;s</a> Planned Giving Advisory Council&rsquo\;s free seminar\, &ldquo\;The Conversation of a Lifetime: How to Talk to a Loved One About Creating a Legacy\,&rdquo\; on Friday\, March 23\, from 8 to 10 a.m. in College Hall\, Room 151\, Central Campus\, 340 DeKalb Pike\, Blue Bell. Breakfast will be served.</p>\n\n<p>The seminar features Peter &ldquo\;Skip&rdquo\; Urban\, the president and supervisor of Urban Funeral Home in Ambler\, Pa.\, and Mary E. Podlogar\, Esquire\, of Montco Elder Law&reg\; LLP in Ambler\, Pa. They will provide important tips on how to start the conversation about your loved ones&rsquo\; final wishes\, including which questions to ask\, how to create a legacy and how to make plans for memorialization.</p>\n\n<p>To attend\, RSVP by emailing Foundation@mc3.edu or calling 215-641-6324 by March 19. Please feel free to submit questions when you RSVP. Seating is limited\, and <a href="http://www.mc3.edu/about-us/directions-and-maps">parking</a> is free.</p>\n
LOCATION:Montgomery County Community College\, College Hall\, Room 151\, Central Campus\, 340 DeKalb Pike\, Blue Bell\, PA 19422
UID:e.2183.849225
SEQUENCE:3
DTSTAMP:20260421T124148Z
URL:https://business.tricountyareachamber.com/events/details/free-seminar-the-conversation-of-a-lifetime-how-to-talk-to-a-loved-one-about-creating-a-legacy-849225
END:VEVENT

END:VCALENDAR
