BEGIN:VCALENDAR
VERSION:2.0
PRODID:-//ChamberMaster//Event Calendar 2.0//EN
METHOD:PUBLISH
X-PUBLISHED-TTL:P3D
REFRESH-INTERVAL:P3D
CALSCALE:GREGORIAN
BEGIN:VEVENT
DTSTART:20170807T180000Z
DTEND:20170811T200000Z
X-MICROSOFT-CDO-ALLDAYEVENT:FALSE
SUMMARY:Free Stem Summer Camp
DESCRIPTION:Girls Science Interactive - FREE Stem Summer Camp\n\n\nThe perfect way to spend your summer afternoon - fun science experiments! The program will be limited to first 12 students\, girls ages 10-12.\n\n\n\nOur Mission: To get young girls passionate about science!\n\n\n\nRegistration available at www.science-interactive.org.
X-ALT-DESC;FMTTYPE=text/html:<div style="text-align: center\;"><u><strong>Girls Science Interactive - FREE Stem Summer Camp</strong></u></div>\n<br />\nThe perfect way to spend your summer afternoon - fun science experiments! The program will be limited to first 12 students\, girls ages 10-12.<br />\n<br />\n<em><strong>Our Mission: To get young girls passionate about science!</strong></em><br />\n<br />\n<strong>Registration available at <a href="http://www.science-interactive.org">www.science-interactive.org</a>.</strong>
LOCATION:Pottstown Regional Public Library 500 East High Street Pottstown\, PA 19464
UID:e.2183.848718
SEQUENCE:3
DTSTAMP:20260421T011801Z
URL:https://business.tricountyareachamber.com/events/details/free-stem-summer-camp-848718
END:VEVENT

END:VCALENDAR
