BEGIN:VCALENDAR
VERSION:2.0
PRODID:-//ChamberMaster//Event Calendar 2.0//EN
METHOD:PUBLISH
X-PUBLISHED-TTL:P3D
REFRESH-INTERVAL:P3D
CALSCALE:GREGORIAN
BEGIN:VEVENT
DTSTART:20161123T000000Z
DTEND:20161123T013000Z
X-MICROSOFT-CDO-ALLDAYEVENT:FALSE
SUMMARY:Free Workshop: Rock your Resilience! with Maribeth Marburger
DESCRIPTION:Life will deliver blows\, knocking you off balance with a sense of weakening confusion and a total loss of how to get your shaking\, bruised feet back under you again. It can leave you feeling paralyzed from your head to your soul. You can't even remember what it feels like to "be normal." You ask yourself\, "Will I ever feel strong again?" You are not alone. Every hour of every day\, people are seeking ways to pull themselves out of crisis and feel "normal" again. It is inspiring to know that you really can do something to make yourself stronger. Part of life is accepting that you cannot change outside circumstances or people\, it is imperative to accept and feel empowered by the realization that you can transform yourself. Yes\, you can\, and this inspiring workshop will help you get there. This workshop is free and open to the public\, donations to Pillars of Light and Love are gladly accepted and appreciated. Thank you!
X-ALT-DESC;FMTTYPE=text/html:Life will deliver blows\, knocking you off balance with a sense of weakening confusion and a total loss of how to get your shaking\, bruised feet back under you again. It can leave you feeling paralyzed from your head to your soul. You can&rsquo\;t even remember what it feels like to &ldquo\;be normal.&rdquo\; You ask yourself\, &ldquo\;Will I ever feel strong again?&rdquo\; You are not alone. Every hour of every day\, people are seeking ways to pull themselves out of crisis and feel &ldquo\;normal&rdquo\; again. It is inspiring to know that you really can do something to make yourself stronger. Part of life is accepting that you cannot change outside circumstances or people\, it is imperative to accept and feel empowered by the realization that you can transform yourself. Yes\, you can\, and this inspiring workshop will help you get there. This workshop is free and open to the public\, donations to Pillars of Light and Love are gladly accepted and appreciated. Thank you!
LOCATION:The Empowering U Center 511 W. Main St. Trappe\, PA 19426 RSVP : https://www.eventbrite.com/e/rock-your-resilience-with-maribeth-marburger-tickets-28367014504
UID:e.2183.847283
SEQUENCE:3
DTSTAMP:20260422T113437Z
URL:https://business.tricountyareachamber.com/events/details/free-workshop-rock-your-resilience-with-maribeth-marburger-847283
END:VEVENT

END:VCALENDAR
